Workbook

Sheet 汇总
A1: 小学数学题目自动生成器 Ver1.3
A3: 介绍
A4: 包含小学1-4年级平时所用到的简单口算题、百以内加减法、表内乘除法和带余数的除法、表内乘除法和多位数乘一位数等口算题目
A5: 快速跳转 | B5: 1、百以内加减法 | C5: 答案
B6: 2、带余数的除法 | C6: 答案
B7: 3、整百整千加减法 | C7: 答案
B8: 4、表内乘除法 | C8: 答案
B9: 5、多位数成一位数 | C9: 答案
B10: 6、分数简单计算 | C10: 答案
B11: 7、十以内加减法 | C11: 答案
A12: 使用说明 | B12: 1、在使用过程中，软件可以通过函数自动随机出题。题目和答案通过左上角的随机码进行匹配。
B13: 2、按F9可以自动刷新题目与对应答案，请务必确保题目和答案一起打印。否则刷新后无法重新打印。
A15: 更新记录 | B15: 2021.7.10 | C15: 新建文档，框架
B16: 2021.7.11 | C16: 完成百以内加减法、带余数除法
B17: 2021.7.12 | C17: 完成整百整千加减法
B18: 2021.7.15 | C18: 优化函数，减少出错几率
B19: 2021.7.20 | C19: 新增随机码，方面对比试题和答案
B20: 2022.1.20 | C20: 新增表内乘除法运算
B21: 2022.1.21 | C21: 新增多位数成一位数运算
B22: 2022.2.2 | C22: 新增分数简单计算
B23: 2022.2.19 | C23: 添加试题页跳转回首页链接
B24: 2022.6.20 | C24: 新增十以内加减法和参考答案
B25: 2022.6.30 | C25: 微调页面边距，统一界面风格,新增使用软件使用说明
C26: 微调多位数乘一位数取值参数。
A29: 网站支持： | B29: 温馨提示 | C29: 为保证函数完整性，页面禁止修改，如需要修改可以站内留言。
B30: 遗失的梦 | C30: Http://www.HackFans.net

Sheet 十以内加减法
A1: 十以内加减法
A3: ='百以内加减法（答案）'!A3 -> 随机码:56353
A4: 姓名：___________ | J4: 日期：___________ | R4: 班级：__________
A6: 1 | B6: =RANDBETWEEN(1,9) -> 5 | C6: =IF(RAND()>0.5,"+","-") -> - | D6: =IF(C6="+",RANDBETWEEN(0,10-B6),RANDBETWEEN(0,B6-1)) -> 2 | E6: = | G6: 26 | H6: =RANDBETWEEN(1,9) -> 1 | I6: =IF(RAND()>0.5,"+","-") -> - | J6: =IF(I6="+",RANDBETWEEN(0,10-H6),RANDBETWEEN(0,H6-1)) -> 0 | K6: = | M6: 51 | N6: =RANDBETWEEN(1,9) -> 7 | O6: =IF(RAND()>0.5,"+","-") -> - | P6: =IF(O6="+",RANDBETWEEN(0,10-N6),RANDBETWEEN(0,N6-1)) -> 5 | Q6: = | R6: 76 | S6: =RANDBETWEEN(1,9) -> 4 | T6: =IF(RAND()>0.5,"+","-") -> - | U6: =IF(T6="+",RANDBETWEEN(0,10-S6),RANDBETWEEN(0,S6-1)) -> 1 | V6: =
A7: 2 | B7: =RANDBETWEEN(1,9) -> 3 | C7: =IF(RAND()>0.5,"+","-") -> + | D7: =IF(C7="+",RANDBETWEEN(0,10-B7),RANDBETWEEN(0,B7-1)) -> 3 | E7: = | G7: 27 | H7: =RANDBETWEEN(1,9) -> 1 | I7: =IF(RAND()>0.5,"+","-") -> - | J7: =IF(I7="+",RANDBETWEEN(0,10-H7),RANDBETWEEN(0,H7-1)) -> 0 | K7: = | M7: 52 | N7: =RANDBETWEEN(1,9) -> 2 | O7: =IF(RAND()>0.5,"+","-") -> - | P7: =IF(O7="+",RANDBETWEEN(0,10-N7),RANDBETWEEN(0,N7-1)) -> 1 | Q7: = | R7: 77 | S7: =RANDBETWEEN(1,9) -> 9 | T7: =IF(RAND()>0.5,"+","-") -> - | U7: =IF(T7="+",RANDBETWEEN(0,10-S7),RANDBETWEEN(0,S7-1)) -> 2 | V7: =
A8: 3 | B8: =RANDBETWEEN(1,9) -> 7 | C8: =IF(RAND()>0.5,"+","-") -> - | D8: =IF(C8="+",RANDBETWEEN(0,10-B8),RANDBETWEEN(0,B8-1)) -> 3 | E8: = | G8: 28 | H8: =RANDBETWEEN(1,9) -> 2 | I8: =IF(RAND()>0.5,"+","-") -> - | J8: =IF(I8="+",RANDBETWEEN(0,10-H8),RANDBETWEEN(0,H8-1)) -> 1 | K8: = | M8: 53 | N8: =RANDBETWEEN(1,9) -> 3 | O8: =IF(RAND()>0.5,"+","-") -> - | P8: =IF(O8="+",RANDBETWEEN(0,10-N8),RANDBETWEEN(0,N8-1)) -> 0 | Q8: = | R8: 78 | S8: =RANDBETWEEN(1,9) -> 8 | T8: =IF(RAND()>0.5,"+","-") -> + | U8: =IF(T8="+",RANDBETWEEN(0,10-S8),RANDBETWEEN(0,S8-1)) -> 1 | V8: =
A9: 4 | B9: =RANDBETWEEN(1,9) -> 4 | C9: =IF(RAND()>0.5,"+","-") -> + | D9: =IF(C9="+",RANDBETWEEN(0,10-B9),RANDBETWEEN(0,B9-1)) -> 1 | E9: = | G9: 29 | H9: =RANDBETWEEN(1,9) -> 4 | I9: =IF(RAND()>0.5,"+","-") -> - | J9: =IF(I9="+",RANDBETWEEN(0,10-H9),RANDBETWEEN(0,H9-1)) -> 1 | K9: = | M9: 54 | N9: =RANDBETWEEN(1,9) -> 3 | O9: =IF(RAND()>0.5,"+","-") -> + | P9: =IF(O9="+",RANDBETWEEN(0,10-N9),RANDBETWEEN(0,N9-1)) -> 7 | Q9: = | R9: 79 | S9: =RANDBETWEEN(1,9) -> 9 | T9: =IF(RAND()>0.5,"+","-") -> + | U9: =IF(T9="+",RANDBETWEEN(0,10-S9),RANDBETWEEN(0,S9-1)) -> 1 | V9: =
A10: 5 | B10: =RANDBETWEEN(1,9) -> 5 | C10: =IF(RAND()>0.5,"+","-") -> - | D10: =IF(C10="+",RANDBETWEEN(0,10-B10),RANDBETWEEN(0,B10-1)) -> 2 | E10: = | G10: 30 | H10: =RANDBETWEEN(1,9) -> 7 | I10: =IF(RAND()>0.5,"+","-") -> - | J10: =IF(I10="+",RANDBETWEEN(0,10-H10),RANDBETWEEN(0,H10-1)) -> 4 | K10: = | M10: 55 | N10: =RANDBETWEEN(1,9) -> 2 | O10: =IF(RAND()>0.5,"+","-") -> - | P10: =IF(O10="+",RANDBETWEEN(0,10-N10),RANDBETWEEN(0,N10-1)) -> 0 | Q10: = | R10: 80 | S10: =RANDBETWEEN(1,9) -> 5 | T10: =IF(RAND()>0.5,"+","-") -> - | U10: =IF(T10="+",RANDBETWEEN(0,10-S10),RANDBETWEEN(0,S10-1)) -> 1 | V10: =
A11: 6 | B11: =RANDBETWEEN(1,9) -> 4 | C11: =IF(RAND()>0.5,"+","-") -> - | D11: =IF(C11="+",RANDBETWEEN(0,10-B11),RANDBETWEEN(0,B11-1)) -> 0 | E11: = | G11: 31 | H11: =RANDBETWEEN(1,9) -> 9 | I11: =IF(RAND()>0.5,"+","-") -> - | J11: =IF(I11="+",RANDBETWEEN(0,10-H11),RANDBETWEEN(0,H11-1)) -> 6 | K11: = | M11: 56 | N11: =RANDBETWEEN(1,9) -> 6 | O11: =IF(RAND()>0.5,"+","-") -> + | P11: =IF(O11="+",RANDBETWEEN(0,10-N11),RANDBETWEEN(0,N11-1)) -> 2 | Q11: = | R11: 81 | S11: =RANDBETWEEN(1,9) -> 8 | T11: =IF(RAND()>0.5,"+","-") -> + | U11: =IF(T11="+",RANDBETWEEN(0,10-S11),RANDBETWEEN(0,S11-1)) -> 2 | V11: =
A12: 7 | B12: =RANDBETWEEN(1,9) -> 9 | C12: =IF(RAND()>0.5,"+","-") -> + | D12: =IF(C12="+",RANDBETWEEN(0,10-B12),RANDBETWEEN(0,B12-1)) -> 0 | E12: = | G12: 32 | H12: =RANDBETWEEN(1,9) -> 8 | I12: =IF(RAND()>0.5,"+","-") -> - | J12: =IF(I12="+",RANDBETWEEN(0,10-H12),RANDBETWEEN(0,H12-1)) -> 5 | K12: = | M12: 57 | N12: =RANDBETWEEN(1,9) -> 3 | O12: =IF(RAND()>0.5,"+","-") -> + | P12: =IF(O12="+",RANDBETWEEN(0,10-N12),RANDBETWEEN(0,N12-1)) -> 4 | Q12: = | R12: 82 | S12: =RANDBETWEEN(1,9) -> 5 | T12: =IF(RAND()>0.5,"+","-") -> - | U12: =IF(T12="+",RANDBETWEEN(0,10-S12),RANDBETWEEN(0,S12-1)) -> 4 | V12: =
A13: 8 | B13: =RANDBETWEEN(1,9) -> 2 | C13: =IF(RAND()>0.5,"+","-") -> + | D13: =IF(C13="+",RANDBETWEEN(0,10-B13),RANDBETWEEN(0,B13-1)) -> 6 | E13: = | G13: 33 | H13: =RANDBETWEEN(1,9) -> 3 | I13: =IF(RAND()>0.5,"+","-") -> - | J13: =IF(I13="+",RANDBETWEEN(0,10-H13),RANDBETWEEN(0,H13-1)) -> 0 | K13: = | M13: 58 | N13: =RANDBETWEEN(1,9) -> 8 | O13: =IF(RAND()>0.5,"+","-") -> + | P13: =IF(O13="+",RANDBETWEEN(0,10-N13),RANDBETWEEN(0,N13-1)) -> 1 | Q13: = | R13: 83 | S13: =RANDBETWEEN(1,9) -> 7 | T13: =IF(RAND()>0.5,"+","-") -> + | U13: =IF(T13="+",RANDBETWEEN(0,10-S13),RANDBETWEEN(0,S13-1)) -> 1 | V13: =
A14: 9 | B14: =RANDBETWEEN(1,9) -> 9 | C14: =IF(RAND()>0.5,"+","-") -> + | D14: =IF(C14="+",RANDBETWEEN(0,10-B14),RANDBETWEEN(0,B14-1)) -> 0 | E14: = | G14: 34 | H14: =RANDBETWEEN(1,9) -> 9 | I14: =IF(RAND()>0.5,"+","-") -> - | J14: =IF(I14="+",RANDBETWEEN(0,10-H14),RANDBETWEEN(0,H14-1)) -> 8 | K14: = | M14: 59 | N14: =RANDBETWEEN(1,9) -> 5 | O14: =IF(RAND()>0.5,"+","-") -> - | P14: =IF(O14="+",RANDBETWEEN(0,10-N14),RANDBETWEEN(0,N14-1)) -> 4 | Q14: = | R14: 84 | S14: =RANDBETWEEN(1,9) -> 2 | T14: =IF(RAND()>0.5,"+","-") -> + | U14: =IF(T14="+",RANDBETWEEN(0,10-S14),RANDBETWEEN(0,S14-1)) -> 5 | V14: =
A15: 10 | B15: =RANDBETWEEN(1,9) -> 5 | C15: =IF(RAND()>0.5,"+","-") -> + | D15: =IF(C15="+",RANDBETWEEN(0,10-B15),RANDBETWEEN(0,B15-1)) -> 0 | E15: = | G15: 35 | H15: =RANDBETWEEN(1,9) -> 3 | I15: =IF(RAND()>0.5,"+","-") -> + | J15: =IF(I15="+",RANDBETWEEN(0,10-H15),RANDBETWEEN(0,H15-1)) -> 1 | K15: = | M15: 60 | N15: =RANDBETWEEN(1,9) -> 9 | O15: =IF(RAND()>0.5,"+","-") -> - | P15: =IF(O15="+",RANDBETWEEN(0,10-N15),RANDBETWEEN(0,N15-1)) -> 5 | Q15: = | R15: 85 | S15: =RANDBETWEEN(1,9) -> 5 | T15: =IF(RAND()>0.5,"+","-") -> - | U15: =IF(T15="+",RANDBETWEEN(0,10-S15),RANDBETWEEN(0,S15-1)) -> 4 | V15: =
A16: 11 | B16: =RANDBETWEEN(1,9) -> 5 | C16: =IF(RAND()>0.5,"+","-") -> - | D16: =IF(C16="+",RANDBETWEEN(0,10-B16),RANDBETWEEN(0,B16-1)) -> 1 | E16: = | G16: 36 | H16: =RANDBETWEEN(1,9) -> 5 | I16: =IF(RAND()>0.5,"+","-") -> - | J16: =IF(I16="+",RANDBETWEEN(0,10-H16),RANDBETWEEN(0,H16-1)) -> 3 | K16: = | M16: 61 | N16: =RANDBETWEEN(1,9) -> 4 | O16: =IF(RAND()>0.5,"+","-") -> - | P16: =IF(O16="+",RANDBETWEEN(0,10-N16),RANDBETWEEN(0,N16-1)) -> 0 | Q16: = | R16: 86 | S16: =RANDBETWEEN(1,9) -> 9 | T16: =IF(RAND()>0.5,"+","-") -> - | U16: =IF(T16="+",RANDBETWEEN(0,10-S16),RANDBETWEEN(0,S16-1)) -> 7 | V16: =
A17: 12 | B17: =RANDBETWEEN(1,9) -> 2 | C17: =IF(RAND()>0.5,"+","-") -> + | D17: =IF(C17="+",RANDBETWEEN(0,10-B17),RANDBETWEEN(0,B17-1)) -> 4 | E17: = | G17: 37 | H17: =RANDBETWEEN(1,9) -> 3 | I17: =IF(RAND()>0.5,"+","-") -> - | J17: =IF(I17="+",RANDBETWEEN(0,10-H17),RANDBETWEEN(0,H17-1)) -> 0 | K17: = | M17: 62 | N17: =RANDBETWEEN(1,9) -> 3 | O17: =IF(RAND()>0.5,"+","-") -> + | P17: =IF(O17="+",RANDBETWEEN(0,10-N17),RANDBETWEEN(0,N17-1)) -> 6 | Q17: = | R17: 87 | S17: =RANDBETWEEN(1,9) -> 3 | T17: =IF(RAND()>0.5,"+","-") -> - | U17: =IF(T17="+",RANDBETWEEN(0,10-S17),RANDBETWEEN(0,S17-1)) -> 1 | V17: =
... A30: 25 | B30: =RANDBETWEEN(1,9) -> 5 | C30: =IF(RAND()>0.5,"+","-") -> + | D30: =IF(C30="+",RANDBETWEEN(0,10-B30),RANDBETWEEN(0,B30-1)) -> 4 | E30: = | G30: 50 | H30: =RANDBETWEEN(1,9) -> 7 | I30: =IF(RAND()>0.5,"+","-") -> - | J30: =IF(I30="+",RANDBETWEEN(0,10-H30),RANDBETWEEN(0,H30-1)) -> 0 | K30: = | M30: 75 | N30: =RANDBETWEEN(1,9) -> 3 | O30: =IF(RAND()>0.5,"+","-") -> - | P30: =IF(O30="+",RANDBETWEEN(0,10-N30),RANDBETWEEN(0,N30-1)) -> 1 | Q30: = | R30: 100 | S30: =RANDBETWEEN(1,9) -> 8 | T30: =IF(RAND()>0.5,"+","-") -> + | U30: =IF(T30="+",RANDBETWEEN(0,10-S30),RANDBETWEEN(0,S30-1)) -> 1 | V30: =

Sheet 十以内加减法（答案）
A1: 十以内加减法(参考答案）
A3: ="随机码:"&RANDBETWEEN(100,100000) -> 随机码:12998
A5: 题号 | B5: 答案 | C5: 题号 | D5: 答案 | E5: 题号 | F5: 答案 | G5: 题号 | H5: 答案
A6: 1 | B6: =IF(十以内加减法!C6="-",十以内加减法!B6-十以内加减法!D6,十以内加减法!B6+十以内加减法!D6) -> 3 | C6: 26 | D6: =IF(十以内加减法!I6="-",十以内加减法!H6-十以内加减法!J6,十以内加减法!H6+十以内加减法!J6) -> 1 | E6: 51 | F6: =IF(十以内加减法!O6="-",十以内加减法!N6-十以内加减法!P6,十以内加减法!N6+十以内加减法!P6) -> 2 | G6: 76 | H6: =IF(十以内加减法!T6="-",十以内加减法!S6-十以内加减法!U6,十以内加减法!S6+十以内加减法!U6) -> 3
A7: 2 | B7: =IF(十以内加减法!C7="-",十以内加减法!B7-十以内加减法!D7,十以内加减法!B7+十以内加减法!D7) -> 6 | C7: 27 | D7: =IF(十以内加减法!I7="-",十以内加减法!H7-十以内加减法!J7,十以内加减法!H7+十以内加减法!J7) -> 1 | E7: 52 | F7: =IF(十以内加减法!O7="-",十以内加减法!N7-十以内加减法!P7,十以内加减法!N7+十以内加减法!P7) -> 1 | G7: 77 | H7: =IF(十以内加减法!T7="-",十以内加减法!S7-十以内加减法!U7,十以内加减法!S7+十以内加减法!U7) -> 7
A8: 3 | B8: =IF(十以内加减法!C8="-",十以内加减法!B8-十以内加减法!D8,十以内加减法!B8+十以内加减法!D8) -> 4 | C8: 28 | D8: =IF(十以内加减法!I8="-",十以内加减法!H8-十以内加减法!J8,十以内加减法!H8+十以内加减法!J8) -> 1 | E8: 53 | F8: =IF(十以内加减法!O8="-",十以内加减法!N8-十以内加减法!P8,十以内加减法!N8+十以内加减法!P8) -> 3 | G8: 78 | H8: =IF(十以内加减法!T8="-",十以内加减法!S8-十以内加减法!U8,十以内加减法!S8+十以内加减法!U8) -> 9
A9: 4 | B9: =IF(十以内加减法!C9="-",十以内加减法!B9-十以内加减法!D9,十以内加减法!B9+十以内加减法!D9) -> 5 | C9: 29 | D9: =IF(十以内加减法!I9="-",十以内加减法!H9-十以内加减法!J9,十以内加减法!H9+十以内加减法!J9) -> 3 | E9: 54 | F9: =IF(十以内加减法!O9="-",十以内加减法!N9-十以内加减法!P9,十以内加减法!N9+十以内加减法!P9) -> 10 | G9: 79 | H9: =IF(十以内加减法!T9="-",十以内加减法!S9-十以内加减法!U9,十以内加减法!S9+十以内加减法!U9) -> 10
A10: 5 | B10: =IF(十以内加减法!C10="-",十以内加减法!B10-十以内加减法!D10,十以内加减法!B10+十以内加减法!D10) -> 3 | C10: 30 | D10: =IF(十以内加减法!I10="-",十以内加减法!H10-十以内加减法!J10,十以内加减法!H10+十以内加减法!J10) -> 3 | E10: 55 | F10: =IF(十以内加减法!O10="-",十以内加减法!N10-十以内加减法!P10,十以内加减法!N10+十以内加减法!P10) -> 2 | G10: 80 | H10: =IF(十以内加减法!T10="-",十以内加减法!S10-十以内加减法!U10,十以内加减法!S10+十以内加减法!U10) -> 4
A11: 6 | B11: =IF(十以内加减法!C11="-",十以内加减法!B11-十以内加减法!D11,十以内加减法!B11+十以内加减法!D11) -> 4 | C11: 31 | D11: =IF(十以内加减法!I11="-",十以内加减法!H11-十以内加减法!J11,十以内加减法!H11+十以内加减法!J11) -> 3 | E11: 56 | F11: =IF(十以内加减法!O11="-",十以内加减法!N11-十以内加减法!P11,十以内加减法!N11+十以内加减法!P11) -> 8 | G11: 81 | H11: =IF(十以内加减法!T11="-",十以内加减法!S11-十以内加减法!U11,十以内加减法!S11+十以内加减法!U11) -> 10
A12: 7 | B12: =IF(十以内加减法!C12="-",十以内加减法!B12-十以内加减法!D12,十以内加减法!B12+十以内加减法!D12) -> 9 | C12: 32 | D12: =IF(十以内加减法!I12="-",十以内加减法!H12-十以内加减法!J12,十以内加减法!H12+十以内加减法!J12) -> 3 | E12: 57 | F12: =IF(十以内加减法!O12="-",十以内加减法!N12-十以内加减法!P12,十以内加减法!N12+十以内加减法!P12) -> 7 | G12: 82 | H12: =IF(十以内加减法!T12="-",十以内加减法!S12-十以内加减法!U12,十以内加减法!S12+十以内加减法!U12) -> 1
A13: 8 | B13: =IF(十以内加减法!C13="-",十以内加减法!B13-十以内加减法!D13,十以内加减法!B13+十以内加减法!D13) -> 8 | C13: 33 | D13: =IF(十以内加减法!I13="-",十以内加减法!H13-十以内加减法!J13,十以内加减法!H13+十以内加减法!J13) -> 3 | E13: 58 | F13: =IF(十以内加减法!O13="-",十以内加减法!N13-十以内加减法!P13,十以内加减法!N13+十以内加减法!P13) -> 9 | G13: 83 | H13: =IF(十以内加减法!T13="-",十以内加减法!S13-十以内加减法!U13,十以内加减法!S13+十以内加减法!U13) -> 8
A14: 9 | B14: =IF(十以内加减法!C14="-",十以内加减法!B14-十以内加减法!D14,十以内加减法!B14+十以内加减法!D14) -> 9 | C14: 34 | D14: =IF(十以内加减法!I14="-",十以内加减法!H14-十以内加减法!J14,十以内加减法!H14+十以内加减法!J14) -> 1 | E14: 59 | F14: =IF(十以内加减法!O14="-",十以内加减法!N14-十以内加减法!P14,十以内加减法!N14+十以内加减法!P14) -> 1 | G14: 84 | H14: =IF(十以内加减法!T14="-",十以内加减法!S14-十以内加减法!U14,十以内加减法!S14+十以内加减法!U14) -> 7
A15: 10 | B15: =IF(十以内加减法!C15="-",十以内加减法!B15-十以内加减法!D15,十以内加减法!B15+十以内加减法!D15) -> 5 | C15: 35 | D15: =IF(十以内加减法!I15="-",十以内加减法!H15-十以内加减法!J15,十以内加减法!H15+十以内加减法!J15) -> 4 | E15: 60 | F15: =IF(十以内加减法!O15="-",十以内加减法!N15-十以内加减法!P15,十以内加减法!N15+十以内加减法!P15) -> 4 | G15: 85 | H15: =IF(十以内加减法!T15="-",十以内加减法!S15-十以内加减法!U15,十以内加减法!S15+十以内加减法!U15) -> 1
A16: 11 | B16: =IF(十以内加减法!C16="-",十以内加减法!B16-十以内加减法!D16,十以内加减法!B16+十以内加减法!D16) -> 4 | C16: 36 | D16: =IF(十以内加减法!I16="-",十以内加减法!H16-十以内加减法!J16,十以内加减法!H16+十以内加减法!J16) -> 2 | E16: 61 | F16: =IF(十以内加减法!O16="-",十以内加减法!N16-十以内加减法!P16,十以内加减法!N16+十以内加减法!P16) -> 4 | G16: 86 | H16: =IF(十以内加减法!T16="-",十以内加减法!S16-十以内加减法!U16,十以内加减法!S16+十以内加减法!U16) -> 2
A17: 12 | B17: =IF(十以内加减法!C17="-",十以内加减法!B17-十以内加减法!D17,十以内加减法!B17+十以内加减法!D17) -> 6 | C17: 37 | D17: =IF(十以内加减法!I17="-",十以内加减法!H17-十以内加减法!J17,十以内加减法!H17+十以内加减法!J17) -> 3 | E17: 62 | F17: =IF(十以内加减法!O17="-",十以内加减法!N17-十以内加减法!P17,十以内加减法!N17+十以内加减法!P17) -> 9 | G17: 87 | H17: =IF(十以内加减法!T17="-",十以内加减法!S17-十以内加减法!U17,十以内加减法!S17+十以内加减法!U17) -> 2
... A30: 25 | B30: =IF(十以内加减法!C30="-",十以内加减法!B30-十以内加减法!D30,十以内加减法!B30+十以内加减法!D30) -> 9 | C30: 50 | D30: =IF(十以内加减法!I30="-",十以内加减法!H30-十以内加减法!J30,十以内加减法!H30+十以内加减法!J30) -> 7 | E30: 75 | F30: =IF(十以内加减法!O30="-",十以内加减法!N30-十以内加减法!P30,十以内加减法!N30+十以内加减法!P30) -> 2 | G30: 100 | H30: =IF(十以内加减法!T30="-",十以内加减法!S30-十以内加减法!U30,十以内加减法!S30+十以内加减法!U30) -> 9

Sheet 百以内加减法
A1: 百以内加减法
A3: ='百以内加减法（答案）'!A3 -> 随机码:56353
A4: 姓名：___________ | J4: 日期：___________ | R4: 班级：__________
A6: 1 | B6: =RANDBETWEEN(10,90) -> 41 | C6: =IF(RAND()>0.5,"+","-") -> - | D6: =IF(C6="+",RANDBETWEEN(1,100-B6),RANDBETWEEN(1,B6-1)) -> 36 | E6: = | G6: 26 | H6: =RANDBETWEEN(10,90) -> 83 | I6: =IF(RAND()>0.5,"+","-") -> + | J6: =IF(I6="+",RANDBETWEEN(1,100-H6),RANDBETWEEN(1,H6-1)) -> 10 | K6: = | M6: 51 | N6: =RANDBETWEEN(10,90) -> 88 | O6: =IF(RAND()>0.5,"+","-") -> + | P6: =IF(O6="+",RANDBETWEEN(1,100-N6),RANDBETWEEN(1,N6-1)) -> 8 | Q6: = | R6: 76 | S6: =RANDBETWEEN(10,90) -> 65 | T6: =IF(RAND()>0.5,"+","-") -> - | U6: =IF(T6="+",RANDBETWEEN(0,100-S6),RANDBETWEEN(1,S6-1)) -> 34 | V6: =
A7: 2 | B7: =RANDBETWEEN(10,90) -> 20 | C7: =IF(RAND()>0.5,"+","-") -> + | D7: =IF(C7="+",RANDBETWEEN(1,100-B7),RANDBETWEEN(1,B7-1)) -> 56 | E7: = | G7: 27 | H7: =RANDBETWEEN(10,90) -> 45 | I7: =IF(RAND()>0.5,"+","-") -> + | J7: =IF(I7="+",RANDBETWEEN(1,100-H7),RANDBETWEEN(1,H7-1)) -> 2 | K7: = | M7: 52 | N7: =RANDBETWEEN(10,90) -> 23 | O7: =IF(RAND()>0.5,"+","-") -> - | P7: =IF(O7="+",RANDBETWEEN(1,100-N7),RANDBETWEEN(0,N7-1)) -> 8 | Q7: = | R7: 77 | S7: =RANDBETWEEN(10,90) -> 44 | T7: =IF(RAND()>0.5,"+","-") -> - | U7: =IF(T7="+",RANDBETWEEN(0,100-S7),RANDBETWEEN(0,S7)) -> 38 | V7: =
A8: 3 | B8: =RANDBETWEEN(10,90) -> 23 | C8: =IF(RAND()>0.5,"+","-") -> - | D8: =IF(C8="+",RANDBETWEEN(1,100-B8),RANDBETWEEN(1,B8-1)) -> 13 | E8: = | G8: 28 | H8: =RANDBETWEEN(10,90) -> 50 | I8: =IF(RAND()>0.5,"+","-") -> - | J8: =IF(I8="+",RANDBETWEEN(1,100-H8),RANDBETWEEN(1,H8-1)) -> 46 | K8: = | M8: 53 | N8: =RANDBETWEEN(10,90) -> 11 | O8: =IF(RAND()>0.5,"+","-") -> - | P8: =IF(O8="+",RANDBETWEEN(1,100-N8),RANDBETWEEN(0,N8-1)) -> 0 | Q8: = | R8: 78 | S8: =RANDBETWEEN(10,90) -> 14 | T8: =IF(RAND()>0.5,"+","-") -> + | U8: =IF(T8="+",RANDBETWEEN(0,100-S8),RANDBETWEEN(0,S8)) -> 11 | V8: =
A9: 4 | B9: =RANDBETWEEN(10,90) -> 45 | C9: =IF(RAND()>0.5,"+","-") -> + | D9: =IF(C9="+",RANDBETWEEN(1,100-B9),RANDBETWEEN(1,B9-1)) -> 20 | E9: = | G9: 29 | H9: =RANDBETWEEN(10,90) -> 73 | I9: =IF(RAND()>0.5,"+","-") -> - | J9: =IF(I9="+",RANDBETWEEN(1,100-H9),RANDBETWEEN(1,H9-1)) -> 51 | K9: = | M9: 54 | N9: =RANDBETWEEN(10,90) -> 49 | O9: =IF(RAND()>0.5,"+","-") -> + | P9: =IF(O9="+",RANDBETWEEN(1,100-N9),RANDBETWEEN(0,N9-1)) -> 1 | Q9: = | R9: 79 | S9: =RANDBETWEEN(10,90) -> 75 | T9: =IF(RAND()>0.5,"+","-") -> + | U9: =IF(T9="+",RANDBETWEEN(0,100-S9),RANDBETWEEN(0,S9)) -> 19 | V9: =
A10: 5 | B10: =RANDBETWEEN(10,90) -> 63 | C10: =IF(RAND()>0.5,"+","-") -> - | D10: =IF(C10="+",RANDBETWEEN(1,100-B10),RANDBETWEEN(1,B10-1)) -> 2 | E10: = | G10: 30 | H10: =RANDBETWEEN(10,90) -> 55 | I10: =IF(RAND()>0.5,"+","-") -> - | J10: =IF(I10="+",RANDBETWEEN(1,100-H10),RANDBETWEEN(1,H10-1)) -> 54 | K10: = | M10: 55 | N10: =RANDBETWEEN(10,90) -> 21 | O10: =IF(RAND()>0.5,"+","-") -> - | P10: =IF(O10="+",RANDBETWEEN(1,100-N10),RANDBETWEEN(0,N10-1)) -> 4 | Q10: = | R10: 80 | S10: =RANDBETWEEN(10,90) -> 56 | T10: =IF(RAND()>0.5,"+","-") -> + | U10: =IF(T10="+",RANDBETWEEN(0,100-S10),RANDBETWEEN(0,S10)) -> 16 | V10: =
A11: 6 | B11: =RANDBETWEEN(10,90) -> 74 | C11: =IF(RAND()>0.5,"+","-") -> - | D11: =IF(C11="+",RANDBETWEEN(1,100-B11),RANDBETWEEN(1,B11-1)) -> 44 | E11: = | G11: 31 | H11: =RANDBETWEEN(10,90) -> 86 | I11: =IF(RAND()>0.5,"+","-") -> + | J11: =IF(I11="+",RANDBETWEEN(1,100-H11),RANDBETWEEN(1,H11-1)) -> 9 | K11: = | M11: 56 | N11: =RANDBETWEEN(10,90) -> 51 | O11: =IF(RAND()>0.5,"+","-") -> + | P11: =IF(O11="+",RANDBETWEEN(1,100-N11),RANDBETWEEN(0,N11-1)) -> 45 | Q11: = | R11: 81 | S11: =RANDBETWEEN(10,90) -> 69 | T11: =IF(RAND()>0.5,"+","-") -> - | U11: =IF(T11="+",RANDBETWEEN(0,100-S11),RANDBETWEEN(0,S11)) -> 61 | V11: =
A12: 7 | B12: =RANDBETWEEN(10,90) -> 27 | C12: =IF(RAND()>0.5,"+","-") -> - | D12: =IF(C12="+",RANDBETWEEN(1,100-B12),RANDBETWEEN(1,B12-1)) -> 5 | E12: = | G12: 32 | H12: =RANDBETWEEN(10,90) -> 63 | I12: =IF(RAND()>0.5,"+","-") -> + | J12: =IF(I12="+",RANDBETWEEN(1,100-H12),RANDBETWEEN(1,H12-1)) -> 12 | K12: = | M12: 57 | N12: =RANDBETWEEN(10,90) -> 65 | O12: =IF(RAND()>0.5,"+","-") -> + | P12: =IF(O12="+",RANDBETWEEN(1,100-N12),RANDBETWEEN(0,N12-1)) -> 22 | Q12: = | R12: 82 | S12: =RANDBETWEEN(10,90) -> 81 | T12: =IF(RAND()>0.5,"+","-") -> - | U12: =IF(T12="+",RANDBETWEEN(0,100-S12),RANDBETWEEN(0,S12)) -> 27 | V12: =
A13: 8 | B13: =RANDBETWEEN(10,90) -> 12 | C13: =IF(RAND()>0.5,"+","-") -> + | D13: =IF(C13="+",RANDBETWEEN(1,100-B13),RANDBETWEEN(1,B13-1)) -> 42 | E13: = | G13: 33 | H13: =RANDBETWEEN(10,90) -> 19 | I13: =IF(RAND()>0.5,"+","-") -> - | J13: =IF(I13="+",RANDBETWEEN(1,100-H13),RANDBETWEEN(1,H13-1)) -> 3 | K13: = | M13: 58 | N13: =RANDBETWEEN(10,90) -> 50 | O13: =IF(RAND()>0.5,"+","-") -> - | P13: =IF(O13="+",RANDBETWEEN(1,100-N13),RANDBETWEEN(0,N13-1)) -> 46 | Q13: = | R13: 83 | S13: =RANDBETWEEN(10,90) -> 60 | T13: =IF(RAND()>0.5,"+","-") -> + | U13: =IF(T13="+",RANDBETWEEN(0,100-S13),RANDBETWEEN(0,S13)) -> 23 | V13: =
A14: 9 | B14: =RANDBETWEEN(10,90) -> 30 | C14: =IF(RAND()>0.5,"+","-") -> - | D14: =IF(C14="+",RANDBETWEEN(1,100-B14),RANDBETWEEN(1,B14-1)) -> 14 | E14: = | G14: 34 | H14: =RANDBETWEEN(10,90) -> 22 | I14: =IF(RAND()>0.5,"+","-") -> - | J14: =IF(I14="+",RANDBETWEEN(1,100-H14),RANDBETWEEN(1,H14-1)) -> 4 | K14: = | M14: 59 | N14: =RANDBETWEEN(10,90) -> 86 | O14: =IF(RAND()>0.5,"+","-") -> - | P14: =IF(O14="+",RANDBETWEEN(1,100-N14),RANDBETWEEN(0,N14-1)) -> 66 | Q14: = | R14: 84 | S14: =RANDBETWEEN(10,90) -> 19 | T14: =IF(RAND()>0.5,"+","-") -> + | U14: =IF(T14="+",RANDBETWEEN(0,100-S14),RANDBETWEEN(0,S14)) -> 11 | V14: =
A15: 10 | B15: =RANDBETWEEN(10,90) -> 20 | C15: =IF(RAND()>0.5,"+","-") -> - | D15: =IF(C15="+",RANDBETWEEN(1,100-B15),RANDBETWEEN(1,B15-1)) -> 7 | E15: = | G15: 35 | H15: =RANDBETWEEN(10,90) -> 80 | I15: =IF(RAND()>0.5,"+","-") -> + | J15: =IF(I15="+",RANDBETWEEN(1,100-H15),RANDBETWEEN(1,H15-1)) -> 13 | K15: = | M15: 60 | N15: =RANDBETWEEN(10,90) -> 53 | O15: =IF(RAND()>0.5,"+","-") -> - | P15: =IF(O15="+",RANDBETWEEN(1,100-N15),RANDBETWEEN(0,N15-1)) -> 1 | Q15: = | R15: 85 | S15: =RANDBETWEEN(10,90) -> 67 | T15: =IF(RAND()>0.5,"+","-") -> + | U15: =IF(T15="+",RANDBETWEEN(0,100-S15),RANDBETWEEN(0,S15)) -> 29 | V15: =
A16: 11 | B16: =RANDBETWEEN(10,90) -> 82 | C16: =IF(RAND()>0.5,"+","-") -> - | D16: =IF(C16="+",RANDBETWEEN(1,100-B16),RANDBETWEEN(1,B16-1)) -> 22 | E16: = | G16: 36 | H16: =RANDBETWEEN(10,90) -> 10 | I16: =IF(RAND()>0.5,"+","-") -> - | J16: =IF(I16="+",RANDBETWEEN(1,100-H16),RANDBETWEEN(1,H16-1)) -> 2 | K16: = | M16: 61 | N16: =RANDBETWEEN(10,90) -> 37 | O16: =IF(RAND()>0.5,"+","-") -> - | P16: =IF(O16="+",RANDBETWEEN(1,100-N16),RANDBETWEEN(0,N16-1)) -> 3 | Q16: = | R16: 86 | S16: =RANDBETWEEN(10,90) -> 72 | T16: =IF(RAND()>0.5,"+","-") -> + | U16: =IF(T16="+",RANDBETWEEN(0,100-S16),RANDBETWEEN(0,S16)) -> 16 | V16: =
A17: 12 | B17: =RANDBETWEEN(10,90) -> 89 | C17: =IF(RAND()>0.5,"+","-") -> - | D17: =IF(C17="+",RANDBETWEEN(1,100-B17),RANDBETWEEN(1,B17-1)) -> 18 | E17: = | G17: 37 | H17: =RANDBETWEEN(10,90) -> 81 | I17: =IF(RAND()>0.5,"+","-") -> - | J17: =IF(I17="+",RANDBETWEEN(1,100-H17),RANDBETWEEN(1,H17-1)) -> 59 | K17: = | M17: 62 | N17: =RANDBETWEEN(10,90) -> 36 | O17: =IF(RAND()>0.5,"+","-") -> + | P17: =IF(O17="+",RANDBETWEEN(1,100-N17),RANDBETWEEN(0,N17-1)) -> 52 | Q17: = | R17: 87 | S17: =RANDBETWEEN(10,90) -> 73 | T17: =IF(RAND()>0.5,"+","-") -> - | U17: =IF(T17="+",RANDBETWEEN(0,100-S17),RANDBETWEEN(0,S17)) -> 26 | V17: =
A18: 13 | B18: =RANDBETWEEN(10,90) -> 11 | C18: =IF(RAND()>0.5,"+","-") -> - | D18: =IF(C18="+",RANDBETWEEN(1,100-B18),RANDBETWEEN(1,B18-1)) -> 8 | E18: = | G18: 38 | H18: =RANDBETWEEN(10,90) -> 56 | I18: =IF(RAND()>0.5,"+","-") -> + | J18: =IF(I18="+",RANDBETWEEN(1,100-H18),RANDBETWEEN(1,H18-1)) -> 33 | K18: = | M18: 63 | N18: =RANDBETWEEN(10,90) -> 84 | O18: =IF(RAND()>0.5,"+","-") -> + | P18: =IF(O18="+",RANDBETWEEN(1,100-N18),RANDBETWEEN(0,N18-1)) -> 11 | Q18: = | R18: 88 | S18: =RANDBETWEEN(10,90) -> 38 | T18: =IF(RAND()>0.5,"+","-") -> - | U18: =IF(T18="+",RANDBETWEEN(0,100-S18),RANDBETWEEN(0,S18)) -> 27 | V18: =
... A30: 25 | B30: =RANDBETWEEN(10,90) -> 12 | C30: =IF(RAND()>0.5,"+","-") -> - | D30: =IF(C30="+",RANDBETWEEN(1,100-B30),RANDBETWEEN(1,B30-1)) -> 4 | E30: = | G30: 50 | H30: =RANDBETWEEN(10,90) -> 69 | I30: =IF(RAND()>0.5,"+","-") -> - | J30: =IF(I30="+",RANDBETWEEN(1,100-H30),RANDBETWEEN(1,H30-1)) -> 53 | K30: = | M30: 75 | N30: =RANDBETWEEN(10,90) -> 23 | O30: =IF(RAND()>0.5,"+","-") -> + | P30: =IF(O30="+",RANDBETWEEN(1,100-N30),RANDBETWEEN(0,N30-1)) -> 69 | Q30: = | R30: 100 | S30: =RANDBETWEEN(10,90) -> 89 | T30: =IF(RAND()>0.5,"+","-") -> - | U30: =IF(T30="+",RANDBETWEEN(0,100-S30),RANDBETWEEN(0,S30)) -> 45 | V30: =

Sheet 百以内加减法（答案）
A1: 百以内加减法(参考答案）
A3: ="随机码:"&RANDBETWEEN(100,100000) -> 随机码:56353
A5: 题号 | B5: 答案 | C5: 题号 | D5: 答案 | E5: 题号 | F5: 答案 | G5: 题号 | H5: 答案
A6: 1 | B6: =IF(百以内加减法!C6="-",百以内加减法!B6-百以内加减法!D6,百以内加减法!B6+百以内加减法!D6) -> 5 | C6: 26 | D6: =IF(百以内加减法!I6="-",百以内加减法!H6-百以内加减法!J6,百以内加减法!H6+百以内加减法!J6) -> 93 | E6: 51 | F6: =IF(百以内加减法!O6="-",百以内加减法!N6-百以内加减法!P6,百以内加减法!N6+百以内加减法!P6) -> 96 | G6: 76 | H6: =IF(百以内加减法!T6="-",百以内加减法!S6-百以内加减法!U6,百以内加减法!S6+百以内加减法!U6) -> 31
A7: 2 | B7: =IF(百以内加减法!C7="-",百以内加减法!B7-百以内加减法!D7,百以内加减法!B7+百以内加减法!D7) -> 76 | C7: 27 | D7: =IF(百以内加减法!I7="-",百以内加减法!H7-百以内加减法!J7,百以内加减法!H7+百以内加减法!J7) -> 47 | E7: 52 | F7: =IF(百以内加减法!O7="-",百以内加减法!N7-百以内加减法!P7,百以内加减法!N7+百以内加减法!P7) -> 15 | G7: 77 | H7: =IF(百以内加减法!T7="-",百以内加减法!S7-百以内加减法!U7,百以内加减法!S7+百以内加减法!U7) -> 6
A8: 3 | B8: =IF(百以内加减法!C8="-",百以内加减法!B8-百以内加减法!D8,百以内加减法!B8+百以内加减法!D8) -> 10 | C8: 28 | D8: =IF(百以内加减法!I8="-",百以内加减法!H8-百以内加减法!J8,百以内加减法!H8+百以内加减法!J8) -> 4 | E8: 53 | F8: =IF(百以内加减法!O8="-",百以内加减法!N8-百以内加减法!P8,百以内加减法!N8+百以内加减法!P8) -> 11 | G8: 78 | H8: =IF(百以内加减法!T8="-",百以内加减法!S8-百以内加减法!U8,百以内加减法!S8+百以内加减法!U8) -> 25
A9: 4 | B9: =IF(百以内加减法!C9="-",百以内加减法!B9-百以内加减法!D9,百以内加减法!B9+百以内加减法!D9) -> 65 | C9: 29 | D9: =IF(百以内加减法!I9="-",百以内加减法!H9-百以内加减法!J9,百以内加减法!H9+百以内加减法!J9) -> 22 | E9: 54 | F9: =IF(百以内加减法!O9="-",百以内加减法!N9-百以内加减法!P9,百以内加减法!N9+百以内加减法!P9) -> 50 | G9: 79 | H9: =IF(百以内加减法!T9="-",百以内加减法!S9-百以内加减法!U9,百以内加减法!S9+百以内加减法!U9) -> 94
A10: 5 | B10: =IF(百以内加减法!C10="-",百以内加减法!B10-百以内加减法!D10,百以内加减法!B10+百以内加减法!D10) -> 61 | C10: 30 | D10: =IF(百以内加减法!I10="-",百以内加减法!H10-百以内加减法!J10,百以内加减法!H10+百以内加减法!J10) -> 1 | E10: 55 | F10: =IF(百以内加减法!O10="-",百以内加减法!N10-百以内加减法!P10,百以内加减法!N10+百以内加减法!P10) -> 17 | G10: 80 | H10: =IF(百以内加减法!T10="-",百以内加减法!S10-百以内加减法!U10,百以内加减法!S10+百以内加减法!U10) -> 72
A11: 6 | B11: =IF(百以内加减法!C11="-",百以内加减法!B11-百以内加减法!D11,百以内加减法!B11+百以内加减法!D11) -> 30 | C11: 31 | D11: =IF(百以内加减法!I11="-",百以内加减法!H11-百以内加减法!J11,百以内加减法!H11+百以内加减法!J11) -> 95 | E11: 56 | F11: =IF(百以内加减法!O11="-",百以内加减法!N11-百以内加减法!P11,百以内加减法!N11+百以内加减法!P11) -> 96 | G11: 81 | H11: =IF(百以内加减法!T11="-",百以内加减法!S11-百以内加减法!U11,百以内加减法!S11+百以内加减法!U11) -> 8
A12: 7 | B12: =IF(百以内加减法!C12="-",百以内加减法!B12-百以内加减法!D12,百以内加减法!B12+百以内加减法!D12) -> 22 | C12: 32 | D12: =IF(百以内加减法!I12="-",百以内加减法!H12-百以内加减法!J12,百以内加减法!H12+百以内加减法!J12) -> 75 | E12: 57 | F12: =IF(百以内加减法!O12="-",百以内加减法!N12-百以内加减法!P12,百以内加减法!N12+百以内加减法!P12) -> 87 | G12: 82 | H12: =IF(百以内加减法!T12="-",百以内加减法!S12-百以内加减法!U12,百以内加减法!S12+百以内加减法!U12) -> 54
A13: 8 | B13: =IF(百以内加减法!C13="-",百以内加减法!B13-百以内加减法!D13,百以内加减法!B13+百以内加减法!D13) -> 54 | C13: 33 | D13: =IF(百以内加减法!I13="-",百以内加减法!H13-百以内加减法!J13,百以内加减法!H13+百以内加减法!J13) -> 16 | E13: 58 | F13: =IF(百以内加减法!O13="-",百以内加减法!N13-百以内加减法!P13,百以内加减法!N13+百以内加减法!P13) -> 4 | G13: 83 | H13: =IF(百以内加减法!T13="-",百以内加减法!S13-百以内加减法!U13,百以内加减法!S13+百以内加减法!U13) -> 83
A14: 9 | B14: =IF(百以内加减法!C14="-",百以内加减法!B14-百以内加减法!D14,百以内加减法!B14+百以内加减法!D14) -> 16 | C14: 34 | D14: =IF(百以内加减法!I14="-",百以内加减法!H14-百以内加减法!J14,百以内加减法!H14+百以内加减法!J14) -> 18 | E14: 59 | F14: =IF(百以内加减法!O14="-",百以内加减法!N14-百以内加减法!P14,百以内加减法!N14+百以内加减法!P14) -> 20 | G14: 84 | H14: =IF(百以内加减法!T14="-",百以内加减法!S14-百以内加减法!U14,百以内加减法!S14+百以内加减法!U14) -> 30
A15: 10 | B15: =IF(百以内加减法!C15="-",百以内加减法!B15-百以内加减法!D15,百以内加减法!B15+百以内加减法!D15) -> 13 | C15: 35 | D15: =IF(百以内加减法!I15="-",百以内加减法!H15-百以内加减法!J15,百以内加减法!H15+百以内加减法!J15) -> 93 | E15: 60 | F15: =IF(百以内加减法!O15="-",百以内加减法!N15-百以内加减法!P15,百以内加减法!N15+百以内加减法!P15) -> 52 | G15: 85 | H15: =IF(百以内加减法!T15="-",百以内加减法!S15-百以内加减法!U15,百以内加减法!S15+百以内加减法!U15) -> 96
A16: 11 | B16: =IF(百以内加减法!C16="-",百以内加减法!B16-百以内加减法!D16,百以内加减法!B16+百以内加减法!D16) -> 60 | C16: 36 | D16: =IF(百以内加减法!I16="-",百以内加减法!H16-百以内加减法!J16,百以内加减法!H16+百以内加减法!J16) -> 8 | E16: 61 | F16: =IF(百以内加减法!O16="-",百以内加减法!N16-百以内加减法!P16,百以内加减法!N16+百以内加减法!P16) -> 34 | G16: 86 | H16: =IF(百以内加减法!T16="-",百以内加减法!S16-百以内加减法!U16,百以内加减法!S16+百以内加减法!U16) -> 88
A17: 12 | B17: =IF(百以内加减法!C17="-",百以内加减法!B17-百以内加减法!D17,百以内加减法!B17+百以内加减法!D17) -> 71 | C17: 37 | D17: =IF(百以内加减法!I17="-",百以内加减法!H17-百以内加减法!J17,百以内加减法!H17+百以内加减法!J17) -> 22 | E17: 62 | F17: =IF(百以内加减法!O17="-",百以内加减法!N17-百以内加减法!P17,百以内加减法!N17+百以内加减法!P17) -> 88 | G17: 87 | H17: =IF(百以内加减法!T17="-",百以内加减法!S17-百以内加减法!U17,百以内加减法!S17+百以内加减法!U17) -> 47
... A30: 25 | B30: =IF(百以内加减法!C30="-",百以内加减法!B30-百以内加减法!D30,百以内加减法!B30+百以内加减法!D30) -> 8 | C30: 50 | D30: =IF(百以内加减法!I30="-",百以内加减法!H30-百以内加减法!J30,百以内加减法!H30+百以内加减法!J30) -> 16 | E30: 75 | F30: =IF(百以内加减法!O30="-",百以内加减法!N30-百以内加减法!P30,百以内加减法!N30+百以内加减法!P30) -> 92 | G30: 100 | H30: =IF(百以内加减法!T30="-",百以内加减法!S30-百以内加减法!U30,百以内加减法!S30+百以内加减法!U30) -> 44

Sheet 余数的除法
A1: 余数的除法
A3: ='余数的除法(答案)'!A2:F2 -> 随机码:78214
A4: 姓名：___________ | H4: 日期：___________ | O4: 班级：__________
A6: 1 | B6: ='余数的除法(答案)'!B5 -> 19 | C6: ÷ | D6: ='余数的除法(答案)'!D5 -> 4 | E6: = | H6: 26 | I6: ='余数的除法(答案)'!J5 -> 30 | J6: ÷ | K6: ='余数的除法(答案)'!L5 -> 4 | L6: = | O6: 51 | P6: ='余数的除法(答案)'!R5 -> 14 | Q6: ÷ | R6: ='余数的除法(答案)'!T5 -> 4 | S6: =
A7: 2 | B7: ='余数的除法(答案)'!B6 -> 57 | C7: ÷ | D7: ='余数的除法(答案)'!D6 -> 6 | E7: = | H7: 27 | I7: ='余数的除法(答案)'!J6 -> 10 | J7: ÷ | K7: ='余数的除法(答案)'!L6 -> 3 | L7: = | O7: 52 | P7: ='余数的除法(答案)'!R6 -> 5 | Q7: ÷ | R7: ='余数的除法(答案)'!T6 -> 2 | S7: =
A8: 3 | B8: ='余数的除法(答案)'!B7 -> 25 | C8: ÷ | D8: ='余数的除法(答案)'!D7 -> 8 | E8: = | H8: 28 | I8: ='余数的除法(答案)'!J7 -> 5 | J8: ÷ | K8: ='余数的除法(答案)'!L7 -> 2 | L8: = | O8: 53 | P8: ='余数的除法(答案)'!R7 -> 47 | Q8: ÷ | R8: ='余数的除法(答案)'!T7 -> 5 | S8: =
A9: 4 | B9: ='余数的除法(答案)'!B8 -> 51 | C9: ÷ | D9: ='余数的除法(答案)'!D8 -> 9 | E9: = | H9: 29 | I9: ='余数的除法(答案)'!J8 -> 11 | J9: ÷ | K9: ='余数的除法(答案)'!L8 -> 2 | L9: = | O9: 54 | P9: ='余数的除法(答案)'!R8 -> 33 | Q9: ÷ | R9: ='余数的除法(答案)'!T8 -> 7 | S9: =
A10: 5 | B10: ='余数的除法(答案)'!B9 -> 78 | C10: ÷ | D10: ='余数的除法(答案)'!D9 -> 8 | E10: = | H10: 30 | I10: ='余数的除法(答案)'!J9 -> 38 | J10: ÷ | K10: ='余数的除法(答案)'!L9 -> 6 | L10: = | O10: 55 | P10: ='余数的除法(答案)'!R9 -> 22 | Q10: ÷ | R10: ='余数的除法(答案)'!T9 -> 5 | S10: =
A11: 6 | B11: ='余数的除法(答案)'!B10 -> 21 | C11: ÷ | D11: ='余数的除法(答案)'!D10 -> 4 | E11: = | H11: 31 | I11: ='余数的除法(答案)'!J10 -> 22 | J11: ÷ | K11: ='余数的除法(答案)'!L10 -> 9 | L11: = | O11: 56 | P11: ='余数的除法(答案)'!R10 -> 30 | Q11: ÷ | R11: ='余数的除法(答案)'!T10 -> 8 | S11: =
A12: 7 | B12: ='余数的除法(答案)'!B11 -> 58 | C12: ÷ | D12: ='余数的除法(答案)'!D11 -> 6 | E12: = | H12: 32 | I12: ='余数的除法(答案)'!J11 -> 26 | J12: ÷ | K12: ='余数的除法(答案)'!L11 -> 7 | L12: = | O12: 57 | P12: ='余数的除法(答案)'!R11 -> 45 | Q12: ÷ | R12: ='余数的除法(答案)'!T11 -> 7 | S12: =
A13: 8 | B13: ='余数的除法(答案)'!B12 -> 16 | C13: ÷ | D13: ='余数的除法(答案)'!D12 -> 5 | E13: = | H13: 33 | I13: ='余数的除法(答案)'!J12 -> 38 | J13: ÷ | K13: ='余数的除法(答案)'!L12 -> 7 | L13: = | O13: 58 | P13: ='余数的除法(答案)'!R12 -> 66 | Q13: ÷ | R13: ='余数的除法(答案)'!T12 -> 8 | S13: =
A14: 9 | B14: ='余数的除法(答案)'!B13 -> 42 | C14: ÷ | D14: ='余数的除法(答案)'!D13 -> 9 | E14: = | H14: 34 | I14: ='余数的除法(答案)'!J13 -> 32 | J14: ÷ | K14: ='余数的除法(答案)'!L13 -> 9 | L14: = | O14: 59 | P14: ='余数的除法(答案)'!R13 -> 68 | Q14: ÷ | R14: ='余数的除法(答案)'!T13 -> 9 | S14: =
A15: 10 | B15: ='余数的除法(答案)'!B14 -> 7 | C15: ÷ | D15: ='余数的除法(答案)'!D14 -> 3 | E15: = | H15: 35 | I15: ='余数的除法(答案)'!J14 -> 9 | J15: ÷ | K15: ='余数的除法(答案)'!L14 -> 2 | L15: = | O15: 60 | P15: ='余数的除法(答案)'!R14 -> 39 | Q15: ÷ | R15: ='余数的除法(答案)'!T14 -> 5 | S15: =
A16: 11 | B16: ='余数的除法(答案)'!B15 -> 17 | C16: ÷ | D16: ='余数的除法(答案)'!D15 -> 8 | E16: = | H16: 36 | I16: ='余数的除法(答案)'!J15 -> 26 | J16: ÷ | K16: ='余数的除法(答案)'!L15 -> 7 | L16: = | O16: 61 | P16: ='余数的除法(答案)'!R15 -> 21 | Q16: ÷ | R16: ='余数的除法(答案)'!T15 -> 8 | S16: =
A17: 12 | B17: ='余数的除法(答案)'!B16 -> 40 | C17: ÷ | D17: ='余数的除法(答案)'!D16 -> 6 | E17: = | H17: 37 | I17: ='余数的除法(答案)'!J16 -> 13 | J17: ÷ | K17: ='余数的除法(答案)'!L16 -> 6 | L17: = | O17: 62 | P17: ='余数的除法(答案)'!R16 -> 37 | Q17: ÷ | R17: ='余数的除法(答案)'!T16 -> 5 | S17: =
... A30: 25 | B30: ='余数的除法(答案)'!B29 -> 16 | C30: ÷ | D30: ='余数的除法(答案)'!D29 -> 3 | E30: = | H30: 50 | I30: ='余数的除法(答案)'!J29 -> 22 | J30: ÷ | K30: ='余数的除法(答案)'!L29 -> 4 | L30: = | O30: 75 | P30: ='余数的除法(答案)'!R29 -> 23 | Q30: ÷ | R30: ='余数的除法(答案)'!T29 -> 4 | S30: =

Sheet 余数的除法(答案)
A1: 余数的除法（参考答案）
A2: ="随机码:"&RANDBETWEEN(100,100000) -> 随机码:78214
A4: 题号 | B4: 题目 | F4: 答案 | I4: 题号 | J4: 题目 | N4: 答案 | Q4: 题号 | R4: 题目 | V4: 答案
A5: 1 | B5: =D5*F5+H5 -> 19 | C5: ÷ | D5: =RANDBETWEEN(2,9) -> 4 | E5: = | F5: =RANDBETWEEN(2,9) -> 4 | G5: 余 | H5: =RANDBETWEEN(1,D5-1) -> 3 | I5: 26 | J5: =L5*N5+P5 -> 30 | K5: ÷ | L5: =RANDBETWEEN(2,9) -> 4 | M5: = | N5: =RANDBETWEEN(2,9) -> 7 | O5: 余 | P5: =RANDBETWEEN(1,L5-1) -> 2 | Q5: 51 | R5: =T5*V5+X5 -> 14 | S5: ÷ | T5: =RANDBETWEEN(2,9) -> 4 | U5: = | V5: =RANDBETWEEN(2,9) -> 3 | W5: 余 | X5: =RANDBETWEEN(1,T5-1) -> 2
A6: 2 | B6: =D6*F6+H6 -> 57 | C6: ÷ | D6: =RANDBETWEEN(2,9) -> 6 | E6: = | F6: =RANDBETWEEN(2,9) -> 9 | G6: 余 | H6: =RANDBETWEEN(1,D6-1) -> 3 | I6: 27 | J6: =L6*N6+P6 -> 10 | K6: ÷ | L6: =RANDBETWEEN(2,9) -> 3 | M6: = | N6: =RANDBETWEEN(2,9) -> 3 | O6: 余 | P6: =RANDBETWEEN(1,L6-1) -> 1 | Q6: 52 | R6: =T6*V6+X6 -> 5 | S6: ÷ | T6: =RANDBETWEEN(2,9) -> 2 | U6: = | V6: =RANDBETWEEN(2,9) -> 2 | W6: 余 | X6: =RANDBETWEEN(1,T6-1) -> 1
A7: 3 | B7: =D7*F7+H7 -> 25 | C7: ÷ | D7: =RANDBETWEEN(2,9) -> 8 | E7: = | F7: =RANDBETWEEN(2,9) -> 3 | G7: 余 | H7: =RANDBETWEEN(1,D7-1) -> 1 | I7: 28 | J7: =L7*N7+P7 -> 5 | K7: ÷ | L7: =RANDBETWEEN(2,9) -> 2 | M7: = | N7: =RANDBETWEEN(2,9) -> 2 | O7: 余 | P7: =RANDBETWEEN(1,L7-1) -> 1 | Q7: 53 | R7: =T7*V7+X7 -> 47 | S7: ÷ | T7: =RANDBETWEEN(2,9) -> 5 | U7: = | V7: =RANDBETWEEN(2,9) -> 9 | W7: 余 | X7: =RANDBETWEEN(1,T7-1) -> 2
A8: 4 | B8: =D8*F8+H8 -> 51 | C8: ÷ | D8: =RANDBETWEEN(2,9) -> 9 | E8: = | F8: =RANDBETWEEN(2,9) -> 5 | G8: 余 | H8: =RANDBETWEEN(1,D8-1) -> 6 | I8: 29 | J8: =L8*N8+P8 -> 11 | K8: ÷ | L8: =RANDBETWEEN(2,9) -> 2 | M8: = | N8: =RANDBETWEEN(2,9) -> 5 | O8: 余 | P8: =RANDBETWEEN(1,L8-1) -> 1 | Q8: 54 | R8: =T8*V8+X8 -> 33 | S8: ÷ | T8: =RANDBETWEEN(2,9) -> 7 | U8: = | V8: =RANDBETWEEN(2,9) -> 4 | W8: 余 | X8: =RANDBETWEEN(1,T8-1) -> 5
A9: 5 | B9: =D9*F9+H9 -> 78 | C9: ÷ | D9: =RANDBETWEEN(2,9) -> 8 | E9: = | F9: =RANDBETWEEN(2,9) -> 9 | G9: 余 | H9: =RANDBETWEEN(1,D9-1) -> 6 | I9: 30 | J9: =L9*N9+P9 -> 38 | K9: ÷ | L9: =RANDBETWEEN(2,9) -> 6 | M9: = | N9: =RANDBETWEEN(2,9) -> 6 | O9: 余 | P9: =RANDBETWEEN(1,L9-1) -> 2 | Q9: 55 | R9: =T9*V9+X9 -> 22 | S9: ÷ | T9: =RANDBETWEEN(2,9) -> 5 | U9: = | V9: =RANDBETWEEN(2,9) -> 4 | W9: 余 | X9: =RANDBETWEEN(1,T9-1) -> 2
A10: 6 | B10: =D10*F10+H10 -> 21 | C10: ÷ | D10: =RANDBETWEEN(2,9) -> 4 | E10: = | F10: =RANDBETWEEN(2,9) -> 5 | G10: 余 | H10: =RANDBETWEEN(1,D10-1) -> 1 | I10: 31 | J10: =L10*N10+P10 -> 22 | K10: ÷ | L10: =RANDBETWEEN(2,9) -> 9 | M10: = | N10: =RANDBETWEEN(2,9) -> 2 | O10: 余 | P10: =RANDBETWEEN(1,L10-1) -> 4 | Q10: 56 | R10: =T10*V10+X10 -> 30 | S10: ÷ | T10: =RANDBETWEEN(2,9) -> 8 | U10: = | V10: =RANDBETWEEN(2,9) -> 3 | W10: 余 | X10: =RANDBETWEEN(1,T10-1) -> 6
A11: 7 | B11: =D11*F11+H11 -> 58 | C11: ÷ | D11: =RANDBETWEEN(2,9) -> 6 | E11: = | F11: =RANDBETWEEN(2,9) -> 9 | G11: 余 | H11: =RANDBETWEEN(1,D11-1) -> 4 | I11: 32 | J11: =L11*N11+P11 -> 26 | K11: ÷ | L11: =RANDBETWEEN(2,9) -> 7 | M11: = | N11: =RANDBETWEEN(2,9) -> 3 | O11: 余 | P11: =RANDBETWEEN(1,L11-1) -> 5 | Q11: 57 | R11: =T11*V11+X11 -> 45 | S11: ÷ | T11: =RANDBETWEEN(2,9) -> 7 | U11: = | V11: =RANDBETWEEN(2,9) -> 6 | W11: 余 | X11: =RANDBETWEEN(1,T11-1) -> 3
A12: 8 | B12: =D12*F12+H12 -> 16 | C12: ÷ | D12: =RANDBETWEEN(2,9) -> 5 | E12: = | F12: =RANDBETWEEN(2,9) -> 3 | G12: 余 | H12: =RANDBETWEEN(1,D12-1) -> 1 | I12: 33 | J12: =L12*N12+P12 -> 38 | K12: ÷ | L12: =RANDBETWEEN(2,9) -> 7 | M12: = | N12: =RANDBETWEEN(2,9) -> 5 | O12: 余 | P12: =RANDBETWEEN(1,L12-1) -> 3 | Q12: 58 | R12: =T12*V12+X12 -> 66 | S12: ÷ | T12: =RANDBETWEEN(2,9) -> 8 | U12: = | V12: =RANDBETWEEN(2,9) -> 8 | W12: 余 | X12: =RANDBETWEEN(1,T12-1) -> 2
A13: 9 | B13: =D13*F13+H13 -> 42 | C13: ÷ | D13: =RANDBETWEEN(2,9) -> 9 | E13: = | F13: =RANDBETWEEN(2,9) -> 4 | G13: 余 | H13: =RANDBETWEEN(1,D13-1) -> 6 | I13: 34 | J13: =L13*N13+P13 -> 32 | K13: ÷ | L13: =RANDBETWEEN(2,9) -> 9 | M13: = | N13: =RANDBETWEEN(2,9) -> 3 | O13: 余 | P13: =RANDBETWEEN(1,L13-1) -> 5 | Q13: 59 | R13: =T13*V13+X13 -> 68 | S13: ÷ | T13: =RANDBETWEEN(2,9) -> 9 | U13: = | V13: =RANDBETWEEN(2,9) -> 7 | W13: 余 | X13: =RANDBETWEEN(1,T13-1) -> 5
A14: 10 | B14: =D14*F14+H14 -> 7 | C14: ÷ | D14: =RANDBETWEEN(2,9) -> 3 | E14: = | F14: =RANDBETWEEN(2,9) -> 2 | G14: 余 | H14: =RANDBETWEEN(1,D14-1) -> 1 | I14: 35 | J14: =L14*N14+P14 -> 9 | K14: ÷ | L14: =RANDBETWEEN(2,9) -> 2 | M14: = | N14: =RANDBETWEEN(2,9) -> 4 | O14: 余 | P14: =RANDBETWEEN(1,L14-1) -> 1 | Q14: 60 | R14: =T14*V14+X14 -> 39 | S14: ÷ | T14: =RANDBETWEEN(2,9) -> 5 | U14: = | V14: =RANDBETWEEN(2,9) -> 7 | W14: 余 | X14: =RANDBETWEEN(1,T14-1) -> 4
A15: 11 | B15: =D15*F15+H15 -> 17 | C15: ÷ | D15: =RANDBETWEEN(2,9) -> 8 | E15: = | F15: =RANDBETWEEN(2,9) -> 2 | G15: 余 | H15: =RANDBETWEEN(1,D15-1) -> 1 | I15: 36 | J15: =L15*N15+P15 -> 26 | K15: ÷ | L15: =RANDBETWEEN(2,9) -> 7 | M15: = | N15: =RANDBETWEEN(2,9) -> 3 | O15: 余 | P15: =RANDBETWEEN(1,L15-1) -> 5 | Q15: 61 | R15: =T15*V15+X15 -> 21 | S15: ÷ | T15: =RANDBETWEEN(2,9) -> 8 | U15: = | V15: =RANDBETWEEN(2,9) -> 2 | W15: 余 | X15: =RANDBETWEEN(1,T15-1) -> 5
A16: 12 | B16: =D16*F16+H16 -> 40 | C16: ÷ | D16: =RANDBETWEEN(2,9) -> 6 | E16: = | F16: =RANDBETWEEN(2,9) -> 6 | G16: 余 | H16: =RANDBETWEEN(1,D16-1) -> 4 | I16: 37 | J16: =L16*N16+P16 -> 13 | K16: ÷ | L16: =RANDBETWEEN(2,9) -> 6 | M16: = | N16: =RANDBETWEEN(2,9) -> 2 | O16: 余 | P16: =RANDBETWEEN(1,L16-1) -> 1 | Q16: 62 | R16: =T16*V16+X16 -> 37 | S16: ÷ | T16: =RANDBETWEEN(2,9) -> 5 | U16: = | V16: =RANDBETWEEN(2,9) -> 7 | W16: 余 | X16: =RANDBETWEEN(1,T16-1) -> 2
... A29: 25 | B29: =D29*F29+H29 -> 16 | C29: ÷ | D29: =RANDBETWEEN(2,9) -> 3 | E29: = | F29: =RANDBETWEEN(2,9) -> 5 | G29: 余 | H29: =RANDBETWEEN(1,D29-1) -> 1 | I29: 50 | J29: =L29*N29+P29 -> 22 | K29: ÷ | L29: =RANDBETWEEN(2,9) -> 4 | M29: = | N29: =RANDBETWEEN(2,9) -> 5 | O29: 余 | P29: =RANDBETWEEN(1,L29-1) -> 2 | Q29: 75 | R29: =T29*V29+X29 -> 23 | S29: ÷ | T29: =RANDBETWEEN(2,9) -> 4 | U29: = | V29: =RANDBETWEEN(2,9) -> 5 | W29: 余 | X29: =RANDBETWEEN(1,T29-1) -> 3

Sheet 整百整千加减法
A1: 整百整千加减法
A2: ="随机码:"&RANDBETWEEN(100,100000) -> 随机码:34703
A3: 姓名：___________ | G3: 日期：___________ | M3: 班级：__________
A5: 1 | B5: =RANDBETWEEN(1,100)*100 -> 6400 | C5: =IF(RAND()>0.5,"+","-") -> + | D5: =ROUND(IF(C5="+",RANDBETWEEN(10,10000-B5),RANDBETWEEN(20,B5-100)),-2) -> 1600 | E5: = | G5: 26 | H5: =RANDBETWEEN(1,100)*100 -> 2900 | I5: =IF(RAND()>0.5,"+","-") -> - | J5: =ROUND(IF(I5="+",RANDBETWEEN(10,10000-H5),RANDBETWEEN(20,H5-1)),-2) -> 2400 | K5: = | M5: 51 | N5: =RANDBETWEEN(1,100)*100 -> 2500 | O5: =IF(RAND()>0.5,"+","-") -> - | P5: =ROUND(IF(O5="+",RANDBETWEEN(10,10000-N5),RANDBETWEEN(20,N5-1)),-2) -> 2400 | Q5: =
A6: 2 | B6: =RANDBETWEEN(1,100)*100 -> 5100 | C6: =IF(RAND()>0.5,"+","-") -> - | D6: =ROUND(IF(C6="+",RANDBETWEEN(10,10000-B6),RANDBETWEEN(20,B6-1)),-2) -> 600 | E6: = | G6: 27 | H6: =RANDBETWEEN(1,100)*100 -> 3300 | I6: =IF(RAND()>0.5,"+","-") -> - | J6: =ROUND(IF(I6="+",RANDBETWEEN(10,10000-H6),RANDBETWEEN(20,H6-1)),-2) -> 400 | K6: = | M6: 52 | N6: =RANDBETWEEN(1,100)*100 -> 4300 | O6: =IF(RAND()>0.5,"+","-") -> + | P6: =ROUND(IF(O6="+",RANDBETWEEN(10,10000-N6),RANDBETWEEN(20,N6-1)),-2) -> 4300 | Q6: =
A7: 3 | B7: =RANDBETWEEN(1,100)*100 -> 8600 | C7: =IF(RAND()>0.5,"+","-") -> - | D7: =ROUND(IF(C7="+",RANDBETWEEN(10,10000-B7),RANDBETWEEN(20,B7-1)),-2) -> 1200 | E7: = | G7: 28 | H7: =RANDBETWEEN(1,100)*100 -> 1300 | I7: =IF(RAND()>0.5,"+","-") -> - | J7: =ROUND(IF(I7="+",RANDBETWEEN(10,10000-H7),RANDBETWEEN(20,H7-1)),-2) -> 800 | K7: = | M7: 53 | N7: =RANDBETWEEN(1,100)*100 -> 3900 | O7: =IF(RAND()>0.5,"+","-") -> - | P7: =ROUND(IF(O7="+",RANDBETWEEN(10,10000-N7),RANDBETWEEN(20,N7-1)),-2) -> 2800 | Q7: =
A8: 4 | B8: =RANDBETWEEN(1,100)*100 -> 4800 | C8: =IF(RAND()>0.5,"+","-") -> + | D8: =ROUND(IF(C8="+",RANDBETWEEN(10,10000-B8),RANDBETWEEN(20,B8-1)),-2) -> 200 | E8: = | G8: 29 | H8: =RANDBETWEEN(1,100)*100 -> 8600 | I8: =IF(RAND()>0.5,"+","-") -> - | J8: =ROUND(IF(I8="+",RANDBETWEEN(10,10000-H8),RANDBETWEEN(20,H8-1)),-2) -> 6000 | K8: = | M8: 54 | N8: =RANDBETWEEN(1,100)*100 -> 4300 | O8: =IF(RAND()>0.5,"+","-") -> + | P8: =ROUND(IF(O8="+",RANDBETWEEN(10,10000-N8),RANDBETWEEN(20,N8-1)),-2) -> 1400 | Q8: =
A9: 5 | B9: =RANDBETWEEN(1,100)*100 -> 9300 | C9: =IF(RAND()>0.5,"+","-") -> - | D9: =ROUND(IF(C9="+",RANDBETWEEN(10,10000-B9),RANDBETWEEN(20,B9-1)),-2) -> 6300 | E9: = | G9: 30 | H9: =RANDBETWEEN(1,100)*100 -> 2200 | I9: =IF(RAND()>0.5,"+","-") -> - | J9: =ROUND(IF(I9="+",RANDBETWEEN(10,10000-H9),RANDBETWEEN(20,H9-1)),-2) -> 1700 | K9: = | M9: 55 | N9: =RANDBETWEEN(1,100)*100 -> 9300 | O9: =IF(RAND()>0.5,"+","-") -> - | P9: =ROUND(IF(O9="+",RANDBETWEEN(10,10000-N9),RANDBETWEEN(20,N9-1)),-2) -> 6900 | Q9: =
A10: 6 | B10: =RANDBETWEEN(1,100)*100 -> 2900 | C10: =IF(RAND()>0.5,"+","-") -> - | D10: =ROUND(IF(C10="+",RANDBETWEEN(10,10000-B10),RANDBETWEEN(20,B10-1)),-2) -> 0 | E10: = | G10: 31 | H10: =RANDBETWEEN(1,100)*100 -> 6200 | I10: =IF(RAND()>0.5,"+","-") -> - | J10: =ROUND(IF(I10="+",RANDBETWEEN(10,10000-H10),RANDBETWEEN(20,H10-1)),-2) -> 4500 | K10: = | M10: 56 | N10: =RANDBETWEEN(1,100)*100 -> 8200 | O10: =IF(RAND()>0.5,"+","-") -> + | P10: =ROUND(IF(O10="+",RANDBETWEEN(10,10000-N10),RANDBETWEEN(20,N10-1)),-2) -> 1000 | Q10: =
A11: 7 | B11: =RANDBETWEEN(1,100)*100 -> 2200 | C11: =IF(RAND()>0.5,"+","-") -> + | D11: =ROUND(IF(C11="+",RANDBETWEEN(10,10000-B11),RANDBETWEEN(20,B11-1)),-2) -> 4300 | E11: = | G11: 32 | H11: =RANDBETWEEN(1,100)*100 -> 5600 | I11: =IF(RAND()>0.5,"+","-") -> - | J11: =ROUND(IF(I11="+",RANDBETWEEN(10,10000-H11),RANDBETWEEN(20,H11-1)),-2) -> 3100 | K11: = | M11: 57 | N11: =RANDBETWEEN(1,100)*100 -> 5700 | O11: =IF(RAND()>0.5,"+","-") -> - | P11: =ROUND(IF(O11="+",RANDBETWEEN(10,10000-N11),RANDBETWEEN(20,N11-1)),-2) -> 5600 | Q11: =
A12: 8 | B12: =RANDBETWEEN(1,100)*100 -> 4100 | C12: =IF(RAND()>0.5,"+","-") -> - | D12: =ROUND(IF(C12="+",RANDBETWEEN(10,10000-B12),RANDBETWEEN(20,B12-1)),-2) -> 1600 | E12: = | G12: 33 | H12: =RANDBETWEEN(1,100)*100 -> 8800 | I12: =IF(RAND()>0.5,"+","-") -> + | J12: =ROUND(IF(I12="+",RANDBETWEEN(10,10000-H12),RANDBETWEEN(20,H12-1)),-2) -> 100 | K12: = | M12: 58 | N12: =RANDBETWEEN(1,100)*100 -> 3300 | O12: =IF(RAND()>0.5,"+","-") -> + | P12: =ROUND(IF(O12="+",RANDBETWEEN(10,10000-N12),RANDBETWEEN(20,N12-1)),-2) -> 2000 | Q12: =
A13: 9 | B13: =RANDBETWEEN(1,100)*100 -> 6700 | C13: =IF(RAND()>0.5,"+","-") -> - | D13: =ROUND(IF(C13="+",RANDBETWEEN(10,10000-B13),RANDBETWEEN(20,B13-1)),-2) -> 3600 | E13: = | G13: 34 | H13: =RANDBETWEEN(1,100)*100 -> 3900 | I13: =IF(RAND()>0.5,"+","-") -> - | J13: =ROUND(IF(I13="+",RANDBETWEEN(10,10000-H13),RANDBETWEEN(20,H13-1)),-2) -> 1600 | K13: = | M13: 59 | N13: =RANDBETWEEN(1,100)*100 -> 2000 | O13: =IF(RAND()>0.5,"+","-") -> - | P13: =ROUND(IF(O13="+",RANDBETWEEN(10,10000-N13),RANDBETWEEN(20,N13-1)),-2) -> 1800 | Q13: =
A14: 10 | B14: =RANDBETWEEN(1,100)*100 -> 3400 | C14: =IF(RAND()>0.5,"+","-") -> - | D14: =ROUND(IF(C14="+",RANDBETWEEN(10,10000-B14),RANDBETWEEN(20,B14-1)),-2) -> 1100 | E14: = | G14: 35 | H14: =RANDBETWEEN(1,100)*100 -> 8900 | I14: =IF(RAND()>0.5,"+","-") -> + | J14: =ROUND(IF(I14="+",RANDBETWEEN(10,10000-H14),RANDBETWEEN(20,H14-1)),-2) -> 0 | K14: = | M14: 60 | N14: =RANDBETWEEN(1,100)*100 -> 6100 | O14: =IF(RAND()>0.5,"+","-") -> + | P14: =ROUND(IF(O14="+",RANDBETWEEN(10,10000-N14),RANDBETWEEN(20,N14-1)),-2) -> 800 | Q14: =
A15: 11 | B15: =RANDBETWEEN(1,100)*100 -> 400 | C15: =IF(RAND()>0.5,"+","-") -> + | D15: =ROUND(IF(C15="+",RANDBETWEEN(10,10000-B15),RANDBETWEEN(20,B15-1)),-2) -> 6400 | E15: = | G15: 36 | H15: =RANDBETWEEN(1,100)*100 -> 200 | I15: =IF(RAND()>0.5,"+","-") -> + | J15: =ROUND(IF(I15="+",RANDBETWEEN(10,10000-H15),RANDBETWEEN(20,H15-1)),-2) -> 6900 | K15: = | M15: 61 | N15: =RANDBETWEEN(1,100)*100 -> 7200 | O15: =IF(RAND()>0.5,"+","-") -> + | P15: =ROUND(IF(O15="+",RANDBETWEEN(10,10000-N15),RANDBETWEEN(20,N15-1)),-2) -> 200 | Q15: =
A16: 12 | B16: =RANDBETWEEN(1,100)*100 -> 3700 | C16: =IF(RAND()>0.5,"+","-") -> - | D16: =ROUND(IF(C16="+",RANDBETWEEN(10,10000-B16),RANDBETWEEN(20,B16-1)),-2) -> 1300 | E16: = | G16: 37 | H16: =RANDBETWEEN(1,100)*100 -> 9400 | I16: =IF(RAND()>0.5,"+","-") -> - | J16: =ROUND(IF(I16="+",RANDBETWEEN(10,10000-H16),RANDBETWEEN(20,H16-1)),-2) -> 1200 | K16: = | M16: 62 | N16: =RANDBETWEEN(1,100)*100 -> 9100 | O16: =IF(RAND()>0.5,"+","-") -> - | P16: =ROUND(IF(O16="+",RANDBETWEEN(10,10000-N16),RANDBETWEEN(20,N16-1)),-2) -> 7100 | Q16: =
A17: 13 | B17: =RANDBETWEEN(1,100)*100 -> 3200 | C17: =IF(RAND()>0.5,"+","-") -> - | D17: =ROUND(IF(C17="+",RANDBETWEEN(10,10000-B17),RANDBETWEEN(20,B17-1)),-2) -> 2500 | E17: = | G17: 38 | H17: =RANDBETWEEN(1,100)*100 -> 4700 | I17: =IF(RAND()>0.5,"+","-") -> - | J17: =ROUND(IF(I17="+",RANDBETWEEN(10,10000-H17),RANDBETWEEN(20,H17-1)),-2) -> 300 | K17: = | M17: 63 | N17: =RANDBETWEEN(1,100)*100 -> 9300 | O17: =IF(RAND()>0.5,"+","-") -> - | P17: =ROUND(IF(O17="+",RANDBETWEEN(10,10000-N17),RANDBETWEEN(20,N17-1)),-2) -> 5000 | Q17: =
... A29: 25 | B29: =RANDBETWEEN(1,100)*100 -> 8400 | C29: =IF(RAND()>0.5,"+","-") -> + | D29: =ROUND(IF(C29="+",RANDBETWEEN(10,10000-B29),RANDBETWEEN(20,B29-1)),-2) -> 1400 | E29: = | G29: 50 | H29: =RANDBETWEEN(1,100)*100 -> 4500 | I29: =IF(RAND()>0.5,"+","-") -> + | J29: =ROUND(IF(I29="+",RANDBETWEEN(10,10000-H29),RANDBETWEEN(20,H29-1)),-2) -> 1000 | K29: = | M29: 75 | N29: =RANDBETWEEN(1,100)*100 -> 3900 | O29: =IF(RAND()>0.5,"+","-") -> + | P29: =ROUND(IF(O29="+",RANDBETWEEN(10,10000-N29),RANDBETWEEN(20,N29-1)),-2) -> 1500 | Q29: =

Sheet 整百整千加减法（答案）
A1: 整百整千加减法（参考答案）
A2: =整百整千加减法!A2 -> 随机码:34703
A4: 题号 | B4: 答案 | C4: 题号 | D4: 答案 | E4: 题号 | F4: 答案
A5: 1 | B5: =IF(整百整千加减法!C5="-",整百整千加减法!B5-整百整千加减法!D5,整百整千加减法!B5+整百整千加减法!D5) -> 8000 | C5: 26 | D5: =IF(整百整千加减法!I5="-",整百整千加减法!H5-整百整千加减法!J5,整百整千加减法!H5+整百整千加减法!J5) -> 500 | E5: 51 | F5: =IF(整百整千加减法!O5="-",整百整千加减法!N5-整百整千加减法!P5,整百整千加减法!N5+整百整千加减法!P5) -> 100
A6: 2 | B6: =IF(整百整千加减法!C6="-",整百整千加减法!B6-整百整千加减法!D6,整百整千加减法!B6+整百整千加减法!D6) -> 4500 | C6: 27 | D6: =IF(整百整千加减法!I6="-",整百整千加减法!H6-整百整千加减法!J6,整百整千加减法!H6+整百整千加减法!J6) -> 2900 | E6: 52 | F6: =IF(整百整千加减法!O6="-",整百整千加减法!N6-整百整千加减法!P6,整百整千加减法!N6+整百整千加减法!P6) -> 8600
A7: 3 | B7: =IF(整百整千加减法!C7="-",整百整千加减法!B7-整百整千加减法!D7,整百整千加减法!B7+整百整千加减法!D7) -> 7400 | C7: 28 | D7: =IF(整百整千加减法!I7="-",整百整千加减法!H7-整百整千加减法!J7,整百整千加减法!H7+整百整千加减法!J7) -> 500 | E7: 53 | F7: =IF(整百整千加减法!O7="-",整百整千加减法!N7-整百整千加减法!P7,整百整千加减法!N7+整百整千加减法!P7) -> 1100
A8: 4 | B8: =IF(整百整千加减法!C8="-",整百整千加减法!B8-整百整千加减法!D8,整百整千加减法!B8+整百整千加减法!D8) -> 5000 | C8: 29 | D8: =IF(整百整千加减法!I8="-",整百整千加减法!H8-整百整千加减法!J8,整百整千加减法!H8+整百整千加减法!J8) -> 2600 | E8: 54 | F8: =IF(整百整千加减法!O8="-",整百整千加减法!N8-整百整千加减法!P8,整百整千加减法!N8+整百整千加减法!P8) -> 5700
A9: 5 | B9: =IF(整百整千加减法!C9="-",整百整千加减法!B9-整百整千加减法!D9,整百整千加减法!B9+整百整千加减法!D9) -> 3000 | C9: 30 | D9: =IF(整百整千加减法!I9="-",整百整千加减法!H9-整百整千加减法!J9,整百整千加减法!H9+整百整千加减法!J9) -> 500 | E9: 55 | F9: =IF(整百整千加减法!O9="-",整百整千加减法!N9-整百整千加减法!P9,整百整千加减法!N9+整百整千加减法!P9) -> 2400
A10: 6 | B10: =IF(整百整千加减法!C10="-",整百整千加减法!B10-整百整千加减法!D10,整百整千加减法!B10+整百整千加减法!D10) -> 2900 | C10: 31 | D10: =IF(整百整千加减法!I10="-",整百整千加减法!H10-整百整千加减法!J10,整百整千加减法!H10+整百整千加减法!J10) -> 1700 | E10: 56 | F10: =IF(整百整千加减法!O10="-",整百整千加减法!N10-整百整千加减法!P10,整百整千加减法!N10+整百整千加减法!P10) -> 9200
A11: 7 | B11: =IF(整百整千加减法!C11="-",整百整千加减法!B11-整百整千加减法!D11,整百整千加减法!B11+整百整千加减法!D11) -> 6500 | C11: 32 | D11: =IF(整百整千加减法!I11="-",整百整千加减法!H11-整百整千加减法!J11,整百整千加减法!H11+整百整千加减法!J11) -> 2500 | E11: 57 | F11: =IF(整百整千加减法!O11="-",整百整千加减法!N11-整百整千加减法!P11,整百整千加减法!N11+整百整千加减法!P11) -> 100
A12: 8 | B12: =IF(整百整千加减法!C12="-",整百整千加减法!B12-整百整千加减法!D12,整百整千加减法!B12+整百整千加减法!D12) -> 2500 | C12: 33 | D12: =IF(整百整千加减法!I12="-",整百整千加减法!H12-整百整千加减法!J12,整百整千加减法!H12+整百整千加减法!J12) -> 8900 | E12: 58 | F12: =IF(整百整千加减法!O12="-",整百整千加减法!N12-整百整千加减法!P12,整百整千加减法!N12+整百整千加减法!P12) -> 5300
A13: 9 | B13: =IF(整百整千加减法!C13="-",整百整千加减法!B13-整百整千加减法!D13,整百整千加减法!B13+整百整千加减法!D13) -> 3100 | C13: 34 | D13: =IF(整百整千加减法!I13="-",整百整千加减法!H13-整百整千加减法!J13,整百整千加减法!H13+整百整千加减法!J13) -> 2300 | E13: 59 | F13: =IF(整百整千加减法!O13="-",整百整千加减法!N13-整百整千加减法!P13,整百整千加减法!N13+整百整千加减法!P13) -> 200
A14: 10 | B14: =IF(整百整千加减法!C14="-",整百整千加减法!B14-整百整千加减法!D14,整百整千加减法!B14+整百整千加减法!D14) -> 2300 | C14: 35 | D14: =IF(整百整千加减法!I14="-",整百整千加减法!H14-整百整千加减法!J14,整百整千加减法!H14+整百整千加减法!J14) -> 8900 | E14: 60 | F14: =IF(整百整千加减法!O14="-",整百整千加减法!N14-整百整千加减法!P14,整百整千加减法!N14+整百整千加减法!P14) -> 6900
A15: 11 | B15: =IF(整百整千加减法!C15="-",整百整千加减法!B15-整百整千加减法!D15,整百整千加减法!B15+整百整千加减法!D15) -> 6800 | C15: 36 | D15: =IF(整百整千加减法!I15="-",整百整千加减法!H15-整百整千加减法!J15,整百整千加减法!H15+整百整千加减法!J15) -> 7100 | E15: 61 | F15: =IF(整百整千加减法!O15="-",整百整千加减法!N15-整百整千加减法!P15,整百整千加减法!N15+整百整千加减法!P15) -> 7400
A16: 12 | B16: =IF(整百整千加减法!C16="-",整百整千加减法!B16-整百整千加减法!D16,整百整千加减法!B16+整百整千加减法!D16) -> 2400 | C16: 37 | D16: =IF(整百整千加减法!I16="-",整百整千加减法!H16-整百整千加减法!J16,整百整千加减法!H16+整百整千加减法!J16) -> 8200 | E16: 62 | F16: =IF(整百整千加减法!O16="-",整百整千加减法!N16-整百整千加减法!P16,整百整千加减法!N16+整百整千加减法!P16) -> 2000
... A29: 25 | B29: =IF(整百整千加减法!C29="-",整百整千加减法!B29-整百整千加减法!D29,整百整千加减法!B29+整百整千加减法!D29) -> 9800 | C29: 50 | D29: =IF(整百整千加减法!I29="-",整百整千加减法!H29-整百整千加减法!J29,整百整千加减法!H29+整百整千加减法!J29) -> 5500 | E29: 75 | F29: =IF(整百整千加减法!O29="-",整百整千加减法!N29-整百整千加减法!P29,整百整千加减法!N29+整百整千加减法!P29) -> 5400

Sheet 表内乘除法
A1: 表内乘除法
A3: ="随机码:"&RANDBETWEEN(100,100000) -> 随机码:53818
A4: 姓名：___________ | J4: 日期：___________ | S4: 班级：__________
A6: 1 | B6: =IF(C6="×",RANDBETWEEN(1,9),RANDBETWEEN(1,9)*D6) -> 9 | C6: =IF(RANDBETWEEN(0,1),"×","÷") -> × | D6: =IF(C6="÷",RANDBETWEEN(2,9),RANDBETWEEN(1,9)) -> 7 | E6: = | G6: 26 | H6: =IF(I6="×",RANDBETWEEN(1,9),RANDBETWEEN(1,9)*J6) -> 1 | I6: =IF(RANDBETWEEN(0,1),"×","÷") -> × | J6: =IF(I6="÷",RANDBETWEEN(2,9),RANDBETWEEN(1,9)) -> 9 | K6: = | M6: 51 | N6: =IF(O6="×",RANDBETWEEN(1,9),RANDBETWEEN(1,9)*P6) -> 4 | O6: =IF(RANDBETWEEN(0,1),"×","÷") -> × | P6: =IF(O6="÷",RANDBETWEEN(2,9),RANDBETWEEN(1,9)) -> 3 | Q6: = | S6: 76 | T6: =IF(U6="×",RANDBETWEEN(1,9),RANDBETWEEN(1,9)*V6) -> 3 | U6: =IF(RANDBETWEEN(0,1),"×","÷") -> × | V6: =IF(U6="÷",RANDBETWEEN(2,9),RANDBETWEEN(1,9)) -> 4 | W6: =
A7: 2 | B7: =IF(C7="×",RANDBETWEEN(1,9),RANDBETWEEN(1,9)*D7) -> 9 | C7: =IF(RANDBETWEEN(0,1),"×","÷") -> × | D7: =IF(C7="÷",RANDBETWEEN(2,9),RANDBETWEEN(1,9)) -> 1 | E7: = | G7: 27 | H7: =IF(I7="×",RANDBETWEEN(1,9),RANDBETWEEN(1,9)*J7) -> 8 | I7: =IF(RANDBETWEEN(0,1),"×","÷") -> × | J7: =IF(I7="÷",RANDBETWEEN(2,9),RANDBETWEEN(1,9)) -> 5 | K7: = | M7: 52 | N7: =IF(O7="×",RANDBETWEEN(1,9),RANDBETWEEN(1,9)*P7) -> 36 | O7: =IF(RANDBETWEEN(0,1),"×","÷") -> ÷ | P7: =IF(O7="÷",RANDBETWEEN(2,9),RANDBETWEEN(1,9)) -> 9 | Q7: = | S7: 77 | T7: =IF(U7="×",RANDBETWEEN(1,9),RANDBETWEEN(1,9)*V7) -> 7 | U7: =IF(RANDBETWEEN(0,1),"×","÷") -> × | V7: =IF(U7="÷",RANDBETWEEN(2,9),RANDBETWEEN(1,9)) -> 3 | W7: =
A8: 3 | B8: =IF(C8="×",RANDBETWEEN(1,9),RANDBETWEEN(1,9)*D8) -> 5 | C8: =IF(RANDBETWEEN(0,1),"×","÷") -> × | D8: =IF(C8="÷",RANDBETWEEN(2,9),RANDBETWEEN(1,9)) -> 3 | E8: = | G8: 28 | H8: =IF(I8="×",RANDBETWEEN(1,9),RANDBETWEEN(1,9)*J8) -> 40 | I8: =IF(RANDBETWEEN(0,1),"×","÷") -> ÷ | J8: =IF(I8="÷",RANDBETWEEN(2,9),RANDBETWEEN(1,9)) -> 8 | K8: = | M8: 53 | N8: =IF(O8="×",RANDBETWEEN(1,9),RANDBETWEEN(1,9)*P8) -> 1 | O8: =IF(RANDBETWEEN(0,1),"×","÷") -> × | P8: =IF(O8="÷",RANDBETWEEN(2,9),RANDBETWEEN(1,9)) -> 2 | Q8: = | S8: 78 | T8: =IF(U8="×",RANDBETWEEN(1,9),RANDBETWEEN(1,9)*V8) -> 8 | U8: =IF(RANDBETWEEN(0,1),"×","÷") -> × | V8: =IF(U8="÷",RANDBETWEEN(2,9),RANDBETWEEN(1,9)) -> 3 | W8: =
A9: 4 | B9: =IF(C9="×",RANDBETWEEN(1,9),RANDBETWEEN(1,9)*D9) -> 3 | C9: =IF(RANDBETWEEN(0,1),"×","÷") -> × | D9: =IF(C9="÷",RANDBETWEEN(2,9),RANDBETWEEN(1,9)) -> 6 | E9: = | G9: 29 | H9: =IF(I9="×",RANDBETWEEN(1,9),RANDBETWEEN(1,9)*J9) -> 35 | I9: =IF(RANDBETWEEN(0,1),"×","÷") -> ÷ | J9: =IF(I9="÷",RANDBETWEEN(2,9),RANDBETWEEN(1,9)) -> 7 | K9: = | M9: 54 | N9: =IF(O9="×",RANDBETWEEN(1,9),RANDBETWEEN(1,9)*P9) -> 48 | O9: =IF(RANDBETWEEN(0,1),"×","÷") -> ÷ | P9: =IF(O9="÷",RANDBETWEEN(2,9),RANDBETWEEN(1,9)) -> 6 | Q9: = | S9: 79 | T9: =IF(U9="×",RANDBETWEEN(1,9),RANDBETWEEN(1,9)*V9) -> 12 | U9: =IF(RANDBETWEEN(0,1),"×","÷") -> ÷ | V9: =IF(U9="÷",RANDBETWEEN(2,9),RANDBETWEEN(1,9)) -> 6 | W9: =
A10: 5 | B10: =IF(C10="×",RANDBETWEEN(1,9),RANDBETWEEN(1,9)*D10) -> 3 | C10: =IF(RANDBETWEEN(0,1),"×","÷") -> × | D10: =IF(C10="÷",RANDBETWEEN(2,9),RANDBETWEEN(1,9)) -> 4 | E10: = | G10: 30 | H10: =IF(I10="×",RANDBETWEEN(1,9),RANDBETWEEN(1,9)*J10) -> 45 | I10: =IF(RANDBETWEEN(0,1),"×","÷") -> ÷ | J10: =IF(I10="÷",RANDBETWEEN(2,9),RANDBETWEEN(1,9)) -> 5 | K10: = | M10: 55 | N10: =IF(O10="×",RANDBETWEEN(1,9),RANDBETWEEN(1,9)*P10) -> 8 | O10: =IF(RANDBETWEEN(0,1),"×","÷") -> × | P10: =IF(O10="÷",RANDBETWEEN(2,9),RANDBETWEEN(1,9)) -> 1 | Q10: = | S10: 80 | T10: =IF(U10="×",RANDBETWEEN(1,9),RANDBETWEEN(1,9)*V10) -> 2 | U10: =IF(RANDBETWEEN(0,1),"×","÷") -> ÷ | V10: =IF(U10="÷",RANDBETWEEN(2,9),RANDBETWEEN(1,9)) -> 2 | W10: =
A11: 6 | B11: =IF(C11="×",RANDBETWEEN(1,9),RANDBETWEEN(1,9)*D11) -> 12 | C11: =IF(RANDBETWEEN(0,1),"×","÷") -> ÷ | D11: =IF(C11="÷",RANDBETWEEN(2,9),RANDBETWEEN(1,9)) -> 6 | E11: = | G11: 31 | H11: =IF(I11="×",RANDBETWEEN(1,9),RANDBETWEEN(1,9)*J11) -> 5 | I11: =IF(RANDBETWEEN(0,1),"×","÷") -> × | J11: =IF(I11="÷",RANDBETWEEN(2,9),RANDBETWEEN(1,9)) -> 8 | K11: = | M11: 56 | N11: =IF(O11="×",RANDBETWEEN(1,9),RANDBETWEEN(1,9)*P11) -> 9 | O11: =IF(RANDBETWEEN(0,1),"×","÷") -> ÷ | P11: =IF(O11="÷",RANDBETWEEN(2,9),RANDBETWEEN(1,9)) -> 3 | Q11: = | S11: 81 | T11: =IF(U11="×",RANDBETWEEN(1,9),RANDBETWEEN(1,9)*V11) -> 4 | U11: =IF(RANDBETWEEN(0,1),"×","÷") -> × | V11: =IF(U11="÷",RANDBETWEEN(2,9),RANDBETWEEN(1,9)) -> 3 | W11: =
A12: 7 | B12: =IF(C12="×",RANDBETWEEN(1,9),RANDBETWEEN(1,9)*D12) -> 8 | C12: =IF(RANDBETWEEN(0,1),"×","÷") -> × | D12: =IF(C12="÷",RANDBETWEEN(2,9),RANDBETWEEN(1,9)) -> 8 | E12: = | G12: 32 | H12: =IF(I12="×",RANDBETWEEN(1,9),RANDBETWEEN(1,9)*J12) -> 9 | I12: =IF(RANDBETWEEN(0,1),"×","÷") -> × | J12: =IF(I12="÷",RANDBETWEEN(2,9),RANDBETWEEN(1,9)) -> 3 | K12: = | M12: 57 | N12: =IF(O12="×",RANDBETWEEN(1,9),RANDBETWEEN(1,9)*P12) -> 35 | O12: =IF(RANDBETWEEN(0,1),"×","÷") -> ÷ | P12: =IF(O12="÷",RANDBETWEEN(2,9),RANDBETWEEN(1,9)) -> 7 | Q12: = | S12: 82 | T12: =IF(U12="×",RANDBETWEEN(1,9),RANDBETWEEN(1,9)*V12) -> 36 | U12: =IF(RANDBETWEEN(0,1),"×","÷") -> ÷ | V12: =IF(U12="÷",RANDBETWEEN(2,9),RANDBETWEEN(1,9)) -> 9 | W12: =
A13: 8 | B13: =IF(C13="×",RANDBETWEEN(1,9),RANDBETWEEN(1,9)*D13) -> 9 | C13: =IF(RANDBETWEEN(0,1),"×","÷") -> ÷ | D13: =IF(C13="÷",RANDBETWEEN(2,9),RANDBETWEEN(1,9)) -> 9 | E13: = | G13: 33 | H13: =IF(I13="×",RANDBETWEEN(1,9),RANDBETWEEN(1,9)*J13) -> 1 | I13: =IF(RANDBETWEEN(0,1),"×","÷") -> × | J13: =IF(I13="÷",RANDBETWEEN(2,9),RANDBETWEEN(1,9)) -> 3 | K13: = | M13: 58 | N13: =IF(O13="×",RANDBETWEEN(1,9),RANDBETWEEN(1,9)*P13) -> 7 | O13: =IF(RANDBETWEEN(0,1),"×","÷") -> × | P13: =IF(O13="÷",RANDBETWEEN(2,9),RANDBETWEEN(1,9)) -> 5 | Q13: = | S13: 83 | T13: =IF(U13="×",RANDBETWEEN(1,9),RANDBETWEEN(1,9)*V13) -> 72 | U13: =IF(RANDBETWEEN(0,1),"×","÷") -> ÷ | V13: =IF(U13="÷",RANDBETWEEN(2,9),RANDBETWEEN(1,9)) -> 9 | W13: =
A14: 9 | B14: =IF(C14="×",RANDBETWEEN(1,9),RANDBETWEEN(1,9)*D14) -> 8 | C14: =IF(RANDBETWEEN(0,1),"×","÷") -> × | D14: =IF(C14="÷",RANDBETWEEN(2,9),RANDBETWEEN(1,9)) -> 3 | E14: = | G14: 34 | H14: =IF(I14="×",RANDBETWEEN(1,9),RANDBETWEEN(1,9)*J14) -> 9 | I14: =IF(RANDBETWEEN(0,1),"×","÷") -> ÷ | J14: =IF(I14="÷",RANDBETWEEN(2,9),RANDBETWEEN(1,9)) -> 3 | K14: = | M14: 59 | N14: =IF(O14="×",RANDBETWEEN(1,9),RANDBETWEEN(1,9)*P14) -> 12 | O14: =IF(RANDBETWEEN(0,1),"×","÷") -> ÷ | P14: =IF(O14="÷",RANDBETWEEN(2,9),RANDBETWEEN(1,9)) -> 6 | Q14: = | S14: 84 | T14: =IF(U14="×",RANDBETWEEN(1,9),RANDBETWEEN(1,9)*V14) -> 6 | U14: =IF(RANDBETWEEN(0,1),"×","÷") -> ÷ | V14: =IF(U14="÷",RANDBETWEEN(2,9),RANDBETWEEN(1,9)) -> 3 | W14: =
A15: 10 | B15: =IF(C15="×",RANDBETWEEN(1,9),RANDBETWEEN(1,9)*D15) -> 32 | C15: =IF(RANDBETWEEN(0,1),"×","÷") -> ÷ | D15: =IF(C15="÷",RANDBETWEEN(2,9),RANDBETWEEN(1,9)) -> 8 | E15: = | G15: 35 | H15: =IF(I15="×",RANDBETWEEN(1,9),RANDBETWEEN(1,9)*J15) -> 6 | I15: =IF(RANDBETWEEN(0,1),"×","÷") -> ÷ | J15: =IF(I15="÷",RANDBETWEEN(2,9),RANDBETWEEN(1,9)) -> 6 | K15: = | M15: 60 | N15: =IF(O15="×",RANDBETWEEN(1,9),RANDBETWEEN(1,9)*P15) -> 2 | O15: =IF(RANDBETWEEN(0,1),"×","÷") -> × | P15: =IF(O15="÷",RANDBETWEEN(2,9),RANDBETWEEN(1,9)) -> 6 | Q15: = | S15: 85 | T15: =IF(U15="×",RANDBETWEEN(1,9),RANDBETWEEN(1,9)*V15) -> 1 | U15: =IF(RANDBETWEEN(0,1),"×","÷") -> × | V15: =IF(U15="÷",RANDBETWEEN(2,9),RANDBETWEEN(1,9)) -> 8 | W15: =
A16: 11 | B16: =IF(C16="×",RANDBETWEEN(1,9),RANDBETWEEN(1,9)*D16) -> 30 | C16: =IF(RANDBETWEEN(0,1),"×","÷") -> ÷ | D16: =IF(C16="÷",RANDBETWEEN(2,9),RANDBETWEEN(1,9)) -> 5 | E16: = | G16: 36 | H16: =IF(I16="×",RANDBETWEEN(1,9),RANDBETWEEN(1,9)*J16) -> 7 | I16: =IF(RANDBETWEEN(0,1),"×","÷") -> × | J16: =IF(I16="÷",RANDBETWEEN(2,9),RANDBETWEEN(1,9)) -> 9 | K16: = | M16: 61 | N16: =IF(O16="×",RANDBETWEEN(1,9),RANDBETWEEN(1,9)*P16) -> 5 | O16: =IF(RANDBETWEEN(0,1),"×","÷") -> × | P16: =IF(O16="÷",RANDBETWEEN(2,9),RANDBETWEEN(1,9)) -> 4 | Q16: = | S16: 86 | T16: =IF(U16="×",RANDBETWEEN(1,9),RANDBETWEEN(1,9)*V16) -> 16 | U16: =IF(RANDBETWEEN(0,1),"×","÷") -> ÷ | V16: =IF(U16="÷",RANDBETWEEN(2,9),RANDBETWEEN(1,9)) -> 8 | W16: =
A17: 12 | B17: =IF(C17="×",RANDBETWEEN(1,9),RANDBETWEEN(1,9)*D17) -> 7 | C17: =IF(RANDBETWEEN(0,1),"×","÷") -> ÷ | D17: =IF(C17="÷",RANDBETWEEN(2,9),RANDBETWEEN(1,9)) -> 7 | E17: = | G17: 37 | H17: =IF(I17="×",RANDBETWEEN(1,9),RANDBETWEEN(1,9)*J17) -> 12 | I17: =IF(RANDBETWEEN(0,1),"×","÷") -> ÷ | J17: =IF(I17="÷",RANDBETWEEN(2,9),RANDBETWEEN(1,9)) -> 2 | K17: = | M17: 62 | N17: =IF(O17="×",RANDBETWEEN(1,9),RANDBETWEEN(1,9)*P17) -> 4 | O17: =IF(RANDBETWEEN(0,1),"×","÷") -> × | P17: =IF(O17="÷",RANDBETWEEN(2,9),RANDBETWEEN(1,9)) -> 3 | Q17: = | S17: 87 | T17: =IF(U17="×",RANDBETWEEN(1,9),RANDBETWEEN(1,9)*V17) -> 49 | U17: =IF(RANDBETWEEN(0,1),"×","÷") -> ÷ | V17: =IF(U17="÷",RANDBETWEEN(2,9),RANDBETWEEN(1,9)) -> 7 | W17: =
... A30: 25 | B30: =IF(C30="×",RANDBETWEEN(1,9),RANDBETWEEN(1,9)*D30) -> 28 | C30: =IF(RANDBETWEEN(0,1),"×","÷") -> ÷ | D30: =IF(C30="÷",RANDBETWEEN(2,9),RANDBETWEEN(1,9)) -> 7 | E30: = | G30: 50 | H30: =IF(I30="×",RANDBETWEEN(1,9),RANDBETWEEN(1,9)*J30) -> 7 | I30: =IF(RANDBETWEEN(0,1),"×","÷") -> × | J30: =IF(I30="÷",RANDBETWEEN(2,9),RANDBETWEEN(1,9)) -> 4 | K30: = | M30: 75 | N30: =IF(O30="×",RANDBETWEEN(1,9),RANDBETWEEN(1,9)*P30) -> 2 | O30: =IF(RANDBETWEEN(0,1),"×","÷") -> ÷ | P30: =IF(O30="÷",RANDBETWEEN(2,9),RANDBETWEEN(1,9)) -> 2 | Q30: = | S30: 100 | T30: =IF(U30="×",RANDBETWEEN(1,9),RANDBETWEEN(1,9)*V30) -> 6 | U30: =IF(RANDBETWEEN(0,1),"×","÷") -> ÷ | V30: =IF(U30="÷",RANDBETWEEN(2,9),RANDBETWEEN(1,9)) -> 2 | W30: =

Sheet 表内乘除法（答案）
A1: 表内乘除法（参考答案）
A3: =表内乘除法!A3 -> 随机码:53818
A5: 题号 | B5: 答案 | C5: 题号 | D5: 答案 | E5: 题号 | F5: 答案 | G5: 题号 | H5: 答案
A6: 1 | B6: =IF(表内乘除法!C6="×",表内乘除法!B6*表内乘除法!D6,表内乘除法!B6/表内乘除法!D6) -> 63 | C6: 26 | D6: =IF(表内乘除法!I6="×",表内乘除法!H6*表内乘除法!J6,表内乘除法!H6/表内乘除法!J6) -> 9 | E6: 51 | F6: =IF(表内乘除法!O6="×",表内乘除法!N6*表内乘除法!P6,表内乘除法!N6/表内乘除法!P6) -> 12 | G6: 76 | H6: =IF(表内乘除法!U6="×",表内乘除法!T6*表内乘除法!V6,表内乘除法!T6/表内乘除法!V6) -> 12
A7: 2 | B7: =IF(表内乘除法!C7="×",表内乘除法!B7*表内乘除法!D7,表内乘除法!B7/表内乘除法!D7) -> 9 | C7: 27 | D7: =IF(表内乘除法!I7="×",表内乘除法!H7*表内乘除法!J7,表内乘除法!H7/表内乘除法!J7) -> 40 | E7: 52 | F7: =IF(表内乘除法!O7="×",表内乘除法!N7*表内乘除法!P7,表内乘除法!N7/表内乘除法!P7) -> 4 | G7: 77 | H7: =IF(表内乘除法!U7="×",表内乘除法!T7*表内乘除法!V7,表内乘除法!T7/表内乘除法!V7) -> 21
A8: 3 | B8: =IF(表内乘除法!C8="×",表内乘除法!B8*表内乘除法!D8,表内乘除法!B8/表内乘除法!D8) -> 15 | C8: 28 | D8: =IF(表内乘除法!I8="×",表内乘除法!H8*表内乘除法!J8,表内乘除法!H8/表内乘除法!J8) -> 5 | E8: 53 | F8: =IF(表内乘除法!O8="×",表内乘除法!N8*表内乘除法!P8,表内乘除法!N8/表内乘除法!P8) -> 2 | G8: 78 | H8: =IF(表内乘除法!U8="×",表内乘除法!T8*表内乘除法!V8,表内乘除法!T8/表内乘除法!V8) -> 24
A9: 4 | B9: =IF(表内乘除法!C9="×",表内乘除法!B9*表内乘除法!D9,表内乘除法!B9/表内乘除法!D9) -> 18 | C9: 29 | D9: =IF(表内乘除法!I9="×",表内乘除法!H9*表内乘除法!J9,表内乘除法!H9/表内乘除法!J9) -> 5 | E9: 54 | F9: =IF(表内乘除法!O9="×",表内乘除法!N9*表内乘除法!P9,表内乘除法!N9/表内乘除法!P9) -> 8 | G9: 79 | H9: =IF(表内乘除法!U9="×",表内乘除法!T9*表内乘除法!V9,表内乘除法!T9/表内乘除法!V9) -> 2
A10: 5 | B10: =IF(表内乘除法!C10="×",表内乘除法!B10*表内乘除法!D10,表内乘除法!B10/表内乘除法!D10) -> 12 | C10: 30 | D10: =IF(表内乘除法!I10="×",表内乘除法!H10*表内乘除法!J10,表内乘除法!H10/表内乘除法!J10) -> 9 | E10: 55 | F10: =IF(表内乘除法!O10="×",表内乘除法!N10*表内乘除法!P10,表内乘除法!N10/表内乘除法!P10) -> 8 | G10: 80 | H10: =IF(表内乘除法!U10="×",表内乘除法!T10*表内乘除法!V10,表内乘除法!T10/表内乘除法!V10) -> 1
A11: 6 | B11: =IF(表内乘除法!C11="×",表内乘除法!B11*表内乘除法!D11,表内乘除法!B11/表内乘除法!D11) -> 2 | C11: 31 | D11: =IF(表内乘除法!I11="×",表内乘除法!H11*表内乘除法!J11,表内乘除法!H11/表内乘除法!J11) -> 40 | E11: 56 | F11: =IF(表内乘除法!O11="×",表内乘除法!N11*表内乘除法!P11,表内乘除法!N11/表内乘除法!P11) -> 3 | G11: 81 | H11: =IF(表内乘除法!U11="×",表内乘除法!T11*表内乘除法!V11,表内乘除法!T11/表内乘除法!V11) -> 12
A12: 7 | B12: =IF(表内乘除法!C12="×",表内乘除法!B12*表内乘除法!D12,表内乘除法!B12/表内乘除法!D12) -> 64 | C12: 32 | D12: =IF(表内乘除法!I12="×",表内乘除法!H12*表内乘除法!J12,表内乘除法!H12/表内乘除法!J12) -> 27 | E12: 57 | F12: =IF(表内乘除法!O12="×",表内乘除法!N12*表内乘除法!P12,表内乘除法!N12/表内乘除法!P12) -> 5 | G12: 82 | H12: =IF(表内乘除法!U12="×",表内乘除法!T12*表内乘除法!V12,表内乘除法!T12/表内乘除法!V12) -> 4
A13: 8 | B13: =IF(表内乘除法!C13="×",表内乘除法!B13*表内乘除法!D13,表内乘除法!B13/表内乘除法!D13) -> 1 | C13: 33 | D13: =IF(表内乘除法!I13="×",表内乘除法!H13*表内乘除法!J13,表内乘除法!H13/表内乘除法!J13) -> 3 | E13: 58 | F13: =IF(表内乘除法!O13="×",表内乘除法!N13*表内乘除法!P13,表内乘除法!N13/表内乘除法!P13) -> 35 | G13: 83 | H13: =IF(表内乘除法!U13="×",表内乘除法!T13*表内乘除法!V13,表内乘除法!T13/表内乘除法!V13) -> 8
A14: 9 | B14: =IF(表内乘除法!C14="×",表内乘除法!B14*表内乘除法!D14,表内乘除法!B14/表内乘除法!D14) -> 24 | C14: 34 | D14: =IF(表内乘除法!I14="×",表内乘除法!H14*表内乘除法!J14,表内乘除法!H14/表内乘除法!J14) -> 3 | E14: 59 | F14: =IF(表内乘除法!O14="×",表内乘除法!N14*表内乘除法!P14,表内乘除法!N14/表内乘除法!P14) -> 2 | G14: 84 | H14: =IF(表内乘除法!U14="×",表内乘除法!T14*表内乘除法!V14,表内乘除法!T14/表内乘除法!V14) -> 2
A15: 10 | B15: =IF(表内乘除法!C15="×",表内乘除法!B15*表内乘除法!D15,表内乘除法!B15/表内乘除法!D15) -> 4 | C15: 35 | D15: =IF(表内乘除法!I15="×",表内乘除法!H15*表内乘除法!J15,表内乘除法!H15/表内乘除法!J15) -> 1 | E15: 60 | F15: =IF(表内乘除法!O15="×",表内乘除法!N15*表内乘除法!P15,表内乘除法!N15/表内乘除法!P15) -> 12 | G15: 85 | H15: =IF(表内乘除法!U15="×",表内乘除法!T15*表内乘除法!V15,表内乘除法!T15/表内乘除法!V15) -> 8
A16: 11 | B16: =IF(表内乘除法!C16="×",表内乘除法!B16*表内乘除法!D16,表内乘除法!B16/表内乘除法!D16) -> 6 | C16: 36 | D16: =IF(表内乘除法!I16="×",表内乘除法!H16*表内乘除法!J16,表内乘除法!H16/表内乘除法!J16) -> 63 | E16: 61 | F16: =IF(表内乘除法!O16="×",表内乘除法!N16*表内乘除法!P16,表内乘除法!N16/表内乘除法!P16) -> 20 | G16: 86 | H16: =IF(表内乘除法!U16="×",表内乘除法!T16*表内乘除法!V16,表内乘除法!T16/表内乘除法!V16) -> 2
A17: 12 | B17: =IF(表内乘除法!C17="×",表内乘除法!B17*表内乘除法!D17,表内乘除法!B17/表内乘除法!D17) -> 1 | C17: 37 | D17: =IF(表内乘除法!I17="×",表内乘除法!H17*表内乘除法!J17,表内乘除法!H17/表内乘除法!J17) -> 6 | E17: 62 | F17: =IF(表内乘除法!O17="×",表内乘除法!N17*表内乘除法!P17,表内乘除法!N17/表内乘除法!P17) -> 12 | G17: 87 | H17: =IF(表内乘除法!U17="×",表内乘除法!T17*表内乘除法!V17,表内乘除法!T17/表内乘除法!V17) -> 7
... A30: 25 | B30: =IF(表内乘除法!C30="×",表内乘除法!B30*表内乘除法!D30,表内乘除法!B30/表内乘除法!D30) -> 4 | C30: 50 | D30: =IF(表内乘除法!I30="×",表内乘除法!H30*表内乘除法!J30,表内乘除法!H30/表内乘除法!J30) -> 28 | E30: 75 | F30: =IF(表内乘除法!O30="×",表内乘除法!N30*表内乘除法!P30,表内乘除法!N30/表内乘除法!P30) -> 1 | G30: 100 | H30: =IF(表内乘除法!U30="×",表内乘除法!T30*表内乘除法!V30,表内乘除法!T30/表内乘除法!V30) -> 3

Sheet 多位数乘一位数
A1: 多位数乘一位数
A3: ="随机码:"&RANDBETWEEN(100,100000) -> 随机码:38516
A4: 姓名：___________ | J4: 日期：___________ | S4: 班级：__________
A6: 1 | B6: =RANDBETWEEN(10,99) -> 70 | C6: × | D6: =RANDBETWEEN(1,9) -> 8 | E6: = | G6: 26 | H6: =RANDBETWEEN(10,99) -> 74 | I6: × | J6: =RANDBETWEEN(1,9) -> 7 | K6: = | M6: 51 | N6: =RANDBETWEEN(10,99) -> 42 | O6: × | P6: =RANDBETWEEN(1,9) -> 6 | Q6: = | S6: 76 | T6: =RANDBETWEEN(10,99) -> 76 | U6: × | V6: =RANDBETWEEN(1,9) -> 4 | W6: =
A7: 2 | B7: =RANDBETWEEN(10,99) -> 61 | C7: × | D7: =RANDBETWEEN(1,9) -> 6 | E7: = | G7: 27 | H7: =RANDBETWEEN(10,99) -> 75 | I7: × | J7: =RANDBETWEEN(1,9) -> 5 | K7: = | M7: 52 | N7: =IF(O7="×",RANDBETWEEN(1,9),RANDBETWEEN(1,9)*P7) -> 9 | O7: =IF(RANDBETWEEN(0,1),"×","÷") -> × | P7: =RANDBETWEEN(1,9) -> 1 | Q7: = | S7: 77 | T7: =RANDBETWEEN(10,99) -> 13 | U7: × | V7: =RANDBETWEEN(1,9) -> 4 | W7: =
A8: 3 | B8: =RANDBETWEEN(10,99) -> 57 | C8: × | D8: =RANDBETWEEN(1,9) -> 2 | E8: = | G8: 28 | H8: =RANDBETWEEN(10,99) -> 57 | I8: × | J8: =RANDBETWEEN(1,9) -> 4 | K8: = | M8: 53 | N8: =IF(O8="×",RANDBETWEEN(1,9),RANDBETWEEN(1,9)*P8) -> 5 | O8: =IF(RANDBETWEEN(0,1),"×","÷") -> × | P8: =RANDBETWEEN(1,9) -> 3 | Q8: = | S8: 78 | T8: =RANDBETWEEN(10,99) -> 69 | U8: × | V8: =RANDBETWEEN(1,9) -> 2 | W8: =
A9: 4 | B9: =RANDBETWEEN(10,99) -> 25 | C9: × | D9: =RANDBETWEEN(1,9) -> 7 | E9: = | G9: 29 | H9: =RANDBETWEEN(10,99) -> 34 | I9: × | J9: =RANDBETWEEN(1,9) -> 6 | K9: = | M9: 54 | N9: =IF(O9="×",RANDBETWEEN(1,9),RANDBETWEEN(1,9)*P9) -> 40 | O9: =IF(RANDBETWEEN(0,1),"×","÷") -> ÷ | P9: =RANDBETWEEN(1,9) -> 8 | Q9: = | S9: 79 | T9: =RANDBETWEEN(10,99) -> 92 | U9: × | V9: =RANDBETWEEN(1,9) -> 2 | W9: =
A10: 5 | B10: =RANDBETWEEN(10,99) -> 79 | C10: × | D10: =RANDBETWEEN(1,9) -> 6 | E10: = | G10: 30 | H10: =RANDBETWEEN(10,99) -> 58 | I10: × | J10: =RANDBETWEEN(1,9) -> 3 | K10: = | M10: 55 | N10: =IF(O10="×",RANDBETWEEN(1,9),RANDBETWEEN(1,9)*P10) -> 36 | O10: =IF(RANDBETWEEN(0,1),"×","÷") -> ÷ | P10: =RANDBETWEEN(1,9) -> 4 | Q10: = | S10: 80 | T10: =RANDBETWEEN(10,99) -> 69 | U10: × | V10: =RANDBETWEEN(1,9) -> 4 | W10: =
A11: 6 | B11: =RANDBETWEEN(10,99) -> 95 | C11: × | D11: =RANDBETWEEN(1,9) -> 5 | E11: = | G11: 31 | H11: =RANDBETWEEN(10,99) -> 41 | I11: × | J11: =RANDBETWEEN(1,9) -> 7 | K11: = | M11: 56 | N11: =IF(O11="×",RANDBETWEEN(1,9),RANDBETWEEN(1,9)*P11) -> 5 | O11: =IF(RANDBETWEEN(0,1),"×","÷") -> ÷ | P11: =RANDBETWEEN(1,9) -> 1 | Q11: = | S11: 81 | T11: =RANDBETWEEN(10,99) -> 81 | U11: × | V11: =RANDBETWEEN(1,9) -> 9 | W11: =
A12: 7 | B12: =RANDBETWEEN(10,99) -> 44 | C12: × | D12: =RANDBETWEEN(1,9) -> 1 | E12: = | G12: 32 | H12: =RANDBETWEEN(10,99) -> 38 | I12: × | J12: =RANDBETWEEN(1,9) -> 7 | K12: = | M12: 57 | N12: =IF(O12="×",RANDBETWEEN(1,9),RANDBETWEEN(1,9)*P12) -> 4 | O12: =IF(RANDBETWEEN(0,1),"×","÷") -> × | P12: =RANDBETWEEN(1,9) -> 7 | Q12: = | S12: 82 | T12: =RANDBETWEEN(10,99) -> 26 | U12: × | V12: =RANDBETWEEN(1,9) -> 8 | W12: =
A13: 8 | B13: =RANDBETWEEN(10,99) -> 36 | C13: × | D13: =RANDBETWEEN(1,9) -> 9 | E13: = | G13: 33 | H13: =RANDBETWEEN(10,99) -> 89 | I13: × | J13: =RANDBETWEEN(1,9) -> 1 | K13: = | M13: 58 | N13: =IF(O13="×",RANDBETWEEN(1,9),RANDBETWEEN(1,9)*P13) -> 9 | O13: =IF(RANDBETWEEN(0,1),"×","÷") -> ÷ | P13: =RANDBETWEEN(1,9) -> 9 | Q13: = | S13: 83 | T13: =RANDBETWEEN(10,99) -> 90 | U13: × | V13: =RANDBETWEEN(1,9) -> 9 | W13: =
A14: 9 | B14: =RANDBETWEEN(10,99) -> 70 | C14: × | D14: =RANDBETWEEN(1,9) -> 1 | E14: = | G14: 34 | H14: =RANDBETWEEN(10,99) -> 54 | I14: × | J14: =RANDBETWEEN(1,9) -> 9 | K14: = | M14: 59 | N14: =IF(O14="×",RANDBETWEEN(1,9),RANDBETWEEN(1,9)*P14) -> 3 | O14: =IF(RANDBETWEEN(0,1),"×","÷") -> × | P14: =RANDBETWEEN(1,9) -> 7 | Q14: = | S14: 84 | T14: =RANDBETWEEN(10,99) -> 10 | U14: × | V14: =RANDBETWEEN(1,9) -> 3 | W14: =
A15: 10 | B15: =RANDBETWEEN(10,99) -> 58 | C15: × | D15: =RANDBETWEEN(1,9) -> 3 | E15: = | G15: 35 | H15: =RANDBETWEEN(10,99) -> 55 | I15: × | J15: =RANDBETWEEN(1,9) -> 5 | K15: = | M15: 60 | N15: =IF(O15="×",RANDBETWEEN(1,9),RANDBETWEEN(1,9)*P15) -> 54 | O15: =IF(RANDBETWEEN(0,1),"×","÷") -> ÷ | P15: =RANDBETWEEN(1,9) -> 6 | Q15: = | S15: 85 | T15: =RANDBETWEEN(10,99) -> 17 | U15: × | V15: =RANDBETWEEN(1,9) -> 6 | W15: =
A16: 11 | B16: =RANDBETWEEN(10,99) -> 27 | C16: × | D16: =RANDBETWEEN(1,9) -> 8 | E16: = | G16: 36 | H16: =RANDBETWEEN(10,99) -> 92 | I16: × | J16: =RANDBETWEEN(1,9) -> 5 | K16: = | M16: 61 | N16: =IF(O16="×",RANDBETWEEN(1,9),RANDBETWEEN(1,9)*P16) -> 1 | O16: =IF(RANDBETWEEN(0,1),"×","÷") -> × | P16: =RANDBETWEEN(1,9) -> 1 | Q16: = | S16: 86 | T16: =RANDBETWEEN(10,99) -> 38 | U16: × | V16: =RANDBETWEEN(1,9) -> 5 | W16: =
A17: 12 | B17: =RANDBETWEEN(10,99) -> 12 | C17: × | D17: =RANDBETWEEN(1,9) -> 4 | E17: = | G17: 37 | H17: =RANDBETWEEN(10,99) -> 94 | I17: × | J17: =RANDBETWEEN(1,9) -> 4 | K17: = | M17: 62 | N17: =IF(O17="×",RANDBETWEEN(1,9),RANDBETWEEN(1,9)*P17) -> 4 | O17: =IF(RANDBETWEEN(0,1),"×","÷") -> × | P17: =RANDBETWEEN(1,9) -> 9 | Q17: = | S17: 87 | T17: =RANDBETWEEN(10,99) -> 23 | U17: × | V17: =RANDBETWEEN(1,9) -> 5 | W17: =
A18: 13 | B18: =RANDBETWEEN(10,99) -> 60 | C18: × | D18: =RANDBETWEEN(1,9) -> 4 | E18: = | G18: 38 | H18: =RANDBETWEEN(10,99) -> 15 | I18: × | J18: =RANDBETWEEN(1,9) -> 1 | K18: = | M18: 63 | N18: =IF(O18="×",RANDBETWEEN(1,9),RANDBETWEEN(1,9)*P18) -> 20 | O18: =IF(RANDBETWEEN(0,1),"×","÷") -> ÷ | P18: =RANDBETWEEN(1,9) -> 5 | Q18: = | S18: 88 | T18: =RANDBETWEEN(10,99) -> 36 | U18: × | V18: =RANDBETWEEN(1,9) -> 5 | W18: =
... A30: 25 | B30: =RANDBETWEEN(10,99) -> 38 | C30: × | D30: =RANDBETWEEN(1,9) -> 7 | E30: = | G30: 50 | H30: =RANDBETWEEN(10,99) -> 68 | I30: × | J30: =RANDBETWEEN(1,9) -> 7 | K30: = | M30: 75 | N30: =IF(O30="×",RANDBETWEEN(1,9),RANDBETWEEN(1,9)*P30) -> 30 | O30: =IF(RANDBETWEEN(0,1),"×","÷") -> ÷ | P30: =RANDBETWEEN(1,9) -> 6 | Q30: = | S30: 100 | T30: =RANDBETWEEN(10,99) -> 36 | U30: × | V30: =RANDBETWEEN(1,9) -> 2 | W30: =

Sheet 多位数乘一位数（答案）
A1: 多位数乘一位数（参考答案）
A3: =多位数乘一位数!A3 -> 随机码:38516
A5: 题号 | B5: 答案 | C5: 题号 | D5: 答案 | E5: 题号 | F5: 答案 | G5: 题号 | H5: 答案
A6: 1 | B6: =多位数乘一位数!B6*多位数乘一位数!D6 -> 560 | C6: 26 | D6: =多位数乘一位数!H6*多位数乘一位数!J6 -> 518 | E6: 51 | F6: =多位数乘一位数!N6*多位数乘一位数!P6 -> 252 | G6: 76 | H6: =多位数乘一位数!T6*多位数乘一位数!V6 -> 304
A7: 2 | B7: =多位数乘一位数!B7*多位数乘一位数!D7 -> 366 | C7: 27 | D7: =多位数乘一位数!H7*多位数乘一位数!J7 -> 375 | E7: 52 | F7: =多位数乘一位数!N7*多位数乘一位数!P7 -> 9 | G7: 77 | H7: =多位数乘一位数!T7*多位数乘一位数!V7 -> 52
A8: 3 | B8: =多位数乘一位数!B8*多位数乘一位数!D8 -> 114 | C8: 28 | D8: =多位数乘一位数!H8*多位数乘一位数!J8 -> 228 | E8: 53 | F8: =多位数乘一位数!N8*多位数乘一位数!P8 -> 15 | G8: 78 | H8: =多位数乘一位数!T8*多位数乘一位数!V8 -> 138
A9: 4 | B9: =多位数乘一位数!B9*多位数乘一位数!D9 -> 175 | C9: 29 | D9: =多位数乘一位数!H9*多位数乘一位数!J9 -> 204 | E9: 54 | F9: =多位数乘一位数!N9*多位数乘一位数!P9 -> 320 | G9: 79 | H9: =多位数乘一位数!T9*多位数乘一位数!V9 -> 184
A10: 5 | B10: =多位数乘一位数!B10*多位数乘一位数!D10 -> 474 | C10: 30 | D10: =多位数乘一位数!H10*多位数乘一位数!J10 -> 174 | E10: 55 | F10: =多位数乘一位数!N10*多位数乘一位数!P10 -> 144 | G10: 80 | H10: =多位数乘一位数!T10*多位数乘一位数!V10 -> 276
A11: 6 | B11: =多位数乘一位数!B11*多位数乘一位数!D11 -> 475 | C11: 31 | D11: =多位数乘一位数!H11*多位数乘一位数!J11 -> 287 | E11: 56 | F11: =多位数乘一位数!N11*多位数乘一位数!P11 -> 5 | G11: 81 | H11: =多位数乘一位数!T11*多位数乘一位数!V11 -> 729
A12: 7 | B12: =多位数乘一位数!B12*多位数乘一位数!D12 -> 44 | C12: 32 | D12: =多位数乘一位数!H12*多位数乘一位数!J12 -> 266 | E12: 57 | F12: =多位数乘一位数!N12*多位数乘一位数!P12 -> 28 | G12: 82 | H12: =多位数乘一位数!T12*多位数乘一位数!V12 -> 208
A13: 8 | B13: =多位数乘一位数!B13*多位数乘一位数!D13 -> 324 | C13: 33 | D13: =多位数乘一位数!H13*多位数乘一位数!J13 -> 89 | E13: 58 | F13: =多位数乘一位数!N13*多位数乘一位数!P13 -> 81 | G13: 83 | H13: =多位数乘一位数!T13*多位数乘一位数!V13 -> 810
A14: 9 | B14: =多位数乘一位数!B14*多位数乘一位数!D14 -> 70 | C14: 34 | D14: =多位数乘一位数!H14*多位数乘一位数!J14 -> 486 | E14: 59 | F14: =多位数乘一位数!N14*多位数乘一位数!P14 -> 21 | G14: 84 | H14: =多位数乘一位数!T14*多位数乘一位数!V14 -> 30
A15: 10 | B15: =多位数乘一位数!B15*多位数乘一位数!D15 -> 174 | C15: 35 | D15: =多位数乘一位数!H15*多位数乘一位数!J15 -> 275 | E15: 60 | F15: =多位数乘一位数!N15*多位数乘一位数!P15 -> 324 | G15: 85 | H15: =多位数乘一位数!T15*多位数乘一位数!V15 -> 102
A16: 11 | B16: =多位数乘一位数!B16*多位数乘一位数!D16 -> 216 | C16: 36 | D16: =多位数乘一位数!H16*多位数乘一位数!J16 -> 460 | E16: 61 | F16: =多位数乘一位数!N16*多位数乘一位数!P16 -> 1 | G16: 86 | H16: =多位数乘一位数!T16*多位数乘一位数!V16 -> 190
A17: 12 | B17: =多位数乘一位数!B17*多位数乘一位数!D17 -> 48 | C17: 37 | D17: =多位数乘一位数!H17*多位数乘一位数!J17 -> 376 | E17: 62 | F17: =多位数乘一位数!N17*多位数乘一位数!P17 -> 36 | G17: 87 | H17: =多位数乘一位数!T17*多位数乘一位数!V17 -> 115
... A30: 25 | B30: =多位数乘一位数!B30*多位数乘一位数!D30 -> 266 | C30: 50 | D30: =多位数乘一位数!H30*多位数乘一位数!J30 -> 476 | E30: 75 | F30: =多位数乘一位数!N30*多位数乘一位数!P30 -> 180 | G30: 100 | H30: =多位数乘一位数!T30*多位数乘一位数!V30 -> 72

Sheet 分数简单计算
A1: 分数简单计算
A3: ="随机码:"&RANDBETWEEN(100,100000) -> 随机码:90045
A4: 姓名：___________ | J4: 日期：___________ | S4: 班级：__________
A6: 1 | B6: =RANDBETWEEN(1,B7-1) -> 3 | C6: =IF(RAND()>0.5,"+","-") -> + | D6: =IF(C6="+",RANDBETWEEN(1,B7-B6),RANDBETWEEN(1,B6-1)) -> 44 | E6: = | G6: 13 | H6: =RANDBETWEEN(1,H7-1) -> 28 | I6: =IF(RAND()>0.5,"+","-") -> - | J6: =IF(I6="+",RANDBETWEEN(1,H7-H6),RANDBETWEEN(1,H6-1)) -> 7 | K6: = | M6: 25 | N6: =RANDBETWEEN(1,N7-1) -> 29 | O6: =IF(RAND()>0.5,"+","-") -> - | P6: =IF(O6="+",RANDBETWEEN(1,N7-N6),RANDBETWEEN(1,N6-1)) -> 8 | Q6: = | S6: 37 | T6: =RANDBETWEEN(1,T7-1) -> 13 | U6: =IF(RAND()>0.5,"+","-") -> + | V6: =IF(U6="+",RANDBETWEEN(1,T7-T6),RANDBETWEEN(1,T6-1)) -> 1 | W6: =
B7: =RANDBETWEEN(10,99) -> 57 | D7: =B7 -> 57 | H7: =RANDBETWEEN(10,99) -> 92 | J7: =H7 -> 92 | N7: =RANDBETWEEN(10,99) -> 72 | P7: =N7 -> 72 | T7: =RANDBETWEEN(10,99) -> 16 | V7: =T7 -> 16
A8: 2 | B8: =RANDBETWEEN(1,B9-1) -> 16 | C8: =IF(RAND()>0.5,"+","-") -> - | D8: =IF(C8="+",RANDBETWEEN(1,B9-B8),RANDBETWEEN(1,B8-1)) -> 8 | E8: = | G8: 14 | H8: =RANDBETWEEN(1,H9-1) -> 4 | I8: =IF(RAND()>0.5,"+","-") -> + | J8: =IF(I8="+",RANDBETWEEN(1,H9-H8),RANDBETWEEN(1,H8-1)) -> 57 | K8: = | M8: 26 | N8: =RANDBETWEEN(1,N9-1) -> 44 | O8: =IF(RAND()>0.5,"+","-") -> + | P8: =IF(O8="+",RANDBETWEEN(1,N9-N8),RANDBETWEEN(1,N8-1)) -> 7 | Q8: = | S8: 38 | T8: =RANDBETWEEN(1,T9-1) -> 4 | U8: =IF(RAND()>0.5,"+","-") -> + | V8: =IF(U8="+",RANDBETWEEN(1,T9-T8),RANDBETWEEN(1,T8-1)) -> 27 | W8: =
B9: =RANDBETWEEN(10,99) -> 44 | D9: =B9 -> 44 | H9: =RANDBETWEEN(10,99) -> 67 | J9: =H9 -> 67 | N9: =RANDBETWEEN(10,99) -> 51 | P9: =N9 -> 51 | T9: =RANDBETWEEN(10,99) -> 31 | V9: =T9 -> 31
A10: 3 | B10: =RANDBETWEEN(1,B11-1) -> 36 | C10: - | D10: =IF(C10="+",RANDBETWEEN(1,B11-B10),RANDBETWEEN(1,B10-1)) -> 31 | E10: = | G10: 15 | H10: =RANDBETWEEN(1,H11-1) -> 2 | I10: =IF(RAND()>0.5,"+","-") -> - | J10: =IF(I10="+",RANDBETWEEN(1,H11-H10),RANDBETWEEN(1,H10-1)) -> 1 | K10: = | M10: 27 | N10: =RANDBETWEEN(1,N11-1) -> 24 | O10: =IF(RAND()>0.5,"+","-") -> - | P10: =IF(O10="+",RANDBETWEEN(1,N11-N10),RANDBETWEEN(1,N10-1)) -> 14 | Q10: = | S10: 39 | T10: =RANDBETWEEN(1,T11-1) -> 30 | U10: =IF(RAND()>0.5,"+","-") -> + | V10: =IF(U10="+",RANDBETWEEN(1,T11-T10),RANDBETWEEN(1,T10-1)) -> 21 | W10: =
B11: =RANDBETWEEN(10,99) -> 51 | D11: =B11 -> 51 | H11: =RANDBETWEEN(10,99) -> 11 | J11: =H11 -> 11 | N11: =RANDBETWEEN(10,99) -> 35 | P11: =N11 -> 35 | T11: =RANDBETWEEN(10,99) -> 60 | V11: =T11 -> 60
A12: 4 | B12: =RANDBETWEEN(1,B13-1) -> 54 | C12: - | D12: =IF(C12="+",RANDBETWEEN(1,B13-B12),RANDBETWEEN(1,B12-1)) -> 13 | E12: = | G12: 16 | H12: =RANDBETWEEN(1,H13-1) -> 24 | I12: =IF(RAND()>0.5,"+","-") -> + | J12: =IF(I12="+",RANDBETWEEN(1,H13-H12),RANDBETWEEN(1,H12-1)) -> 3 | K12: = | M12: 28 | N12: =RANDBETWEEN(1,N13-1) -> 2 | O12: =IF(RAND()>0.5,"+","-") -> + | P12: =IF(O12="+",RANDBETWEEN(1,N13-N12),RANDBETWEEN(1,N12-1)) -> 5 | Q12: = | S12: 40 | T12: =RANDBETWEEN(1,T13-1) -> 13 | U12: =IF(RAND()>0.5,"+","-") -> - | V12: =IF(U12="+",RANDBETWEEN(1,T13-T12),RANDBETWEEN(1,T12-1)) -> 9 | W12: =
B13: =RANDBETWEEN(10,99) -> 59 | D13: =B13 -> 59 | H13: =RANDBETWEEN(10,99) -> 28 | J13: =H13 -> 28 | N13: =RANDBETWEEN(10,99) -> 10 | P13: =N13 -> 10 | T13: =RANDBETWEEN(10,99) -> 38 | V13: =T13 -> 38
A14: 5 | B14: =RANDBETWEEN(1,B15-1) -> 76 | C14: - | D14: =IF(C14="+",RANDBETWEEN(1,B15-B14),RANDBETWEEN(1,B14-1)) -> 50 | E14: = | G14: 17 | H14: =RANDBETWEEN(1,H15-1) -> 3 | I14: =IF(RAND()>0.5,"+","-") -> + | J14: =IF(I14="+",RANDBETWEEN(1,H15-H14),RANDBETWEEN(1,H14-1)) -> 8 | K14: = | M14: 29 | N14: =RANDBETWEEN(1,N15-1) -> 13 | O14: =IF(RAND()>0.5,"+","-") -> - | P14: =IF(O14="+",RANDBETWEEN(1,N15-N14),RANDBETWEEN(1,N14-1)) -> 11 | Q14: = | S14: 41 | T14: =RANDBETWEEN(1,T15-1) -> 4 | U14: =IF(RAND()>0.5,"+","-") -> + | V14: =IF(U14="+",RANDBETWEEN(1,T15-T14),RANDBETWEEN(1,T14-1)) -> 6 | W14: =
B15: =RANDBETWEEN(10,99) -> 81 | D15: =B15 -> 81 | H15: =RANDBETWEEN(10,99) -> 37 | J15: =H15 -> 37 | N15: =RANDBETWEEN(10,99) -> 22 | P15: =N15 -> 22 | T15: =RANDBETWEEN(10,99) -> 22 | V15: =T15 -> 22
A16: 6 | B16: =RANDBETWEEN(1,B17-1) -> 15 | C16: - | D16: =IF(C16="+",RANDBETWEEN(1,B17-B16),RANDBETWEEN(1,B16-1)) -> 2 | E16: = | G16: 18 | H16: =RANDBETWEEN(1,H17-1) -> 10 | I16: =IF(RAND()>0.5,"+","-") -> + | J16: =IF(I16="+",RANDBETWEEN(1,H17-H16),RANDBETWEEN(1,H16-1)) -> 24 | K16: = | M16: 30 | N16: =RANDBETWEEN(1,N17-1) -> 60 | O16: =IF(RAND()>0.5,"+","-") -> - | P16: =IF(O16="+",RANDBETWEEN(1,N17-N16),RANDBETWEEN(1,N16-1)) -> 13 | Q16: = | S16: 42 | T16: =RANDBETWEEN(1,T17-1) -> 43 | U16: =IF(RAND()>0.5,"+","-") -> + | V16: =IF(U16="+",RANDBETWEEN(1,T17-T16),RANDBETWEEN(1,T16-1)) -> 15 | W16: =
B17: =RANDBETWEEN(10,99) -> 87 | D17: =B17 -> 87 | H17: =RANDBETWEEN(10,99) -> 35 | J17: =H17 -> 35 | N17: =RANDBETWEEN(10,99) -> 74 | P17: =N17 -> 74 | T17: =RANDBETWEEN(10,99) -> 88 | V17: =T17 -> 88
A18: 7 | B18: =RANDBETWEEN(1,B19-1) -> 32 | C18: - | D18: =IF(C18="+",RANDBETWEEN(1,B19-B18),RANDBETWEEN(1,B18-1)) -> 26 | E18: = | G18: 19 | H18: =RANDBETWEEN(1,H19-1) -> 3 | I18: =IF(RAND()>0.5,"+","-") -> + | J18: =IF(I18="+",RANDBETWEEN(1,H19-H18),RANDBETWEEN(1,H18-1)) -> 22 | K18: = | M18: 31 | N18: =RANDBETWEEN(1,N19-1) -> 18 | O18: =IF(RAND()>0.5,"+","-") -> - | P18: =IF(O18="+",RANDBETWEEN(1,N19-N18),RANDBETWEEN(1,N18-1)) -> 13 | Q18: = | S18: 43 | T18: =RANDBETWEEN(1,T19-1) -> 19 | U18: =IF(RAND()>0.5,"+","-") -> - | V18: =IF(U18="+",RANDBETWEEN(1,T19-T18),RANDBETWEEN(1,T18-1)) -> 8 | W18: =
B19: =RANDBETWEEN(10,99) -> 44 | D19: =B19 -> 44 | H19: =RANDBETWEEN(10,99) -> 32 | J19: =H19 -> 32 | N19: =RANDBETWEEN(10,99) -> 55 | P19: =N19 -> 55 | T19: =RANDBETWEEN(10,99) -> 46 | V19: =T19 -> 46
A20: 8 | B20: =RANDBETWEEN(1,B21-1) -> 22 | C20: - | D20: =IF(C20="+",RANDBETWEEN(1,B21-B20),RANDBETWEEN(1,B20-1)) -> 17 | E20: = | G20: 20 | H20: =RANDBETWEEN(1,H21-1) -> 21 | I20: =IF(RAND()>0.5,"+","-") -> - | J20: =IF(I20="+",RANDBETWEEN(1,H21-H20),RANDBETWEEN(1,H20-1)) -> 9 | K20: = | M20: 32 | N20: =RANDBETWEEN(1,N21-1) -> 29 | O20: =IF(RAND()>0.5,"+","-") -> - | P20: =IF(O20="+",RANDBETWEEN(1,N21-N20),RANDBETWEEN(1,N20-1)) -> 9 | Q20: = | S20: 44 | T20: =RANDBETWEEN(1,T21-1) -> 42 | U20: =IF(RAND()>0.5,"+","-") -> + | V20: =IF(U20="+",RANDBETWEEN(1,T21-T20),RANDBETWEEN(1,T20-1)) -> 19 | W20: =
B21: =RANDBETWEEN(10,99) -> 36 | D21: =B21 -> 36 | H21: =RANDBETWEEN(10,99) -> 81 | J21: =H21 -> 81 | N21: =RANDBETWEEN(10,99) -> 57 | P21: =N21 -> 57 | T21: =RANDBETWEEN(10,99) -> 88 | V21: =T21 -> 88
A22: 9 | B22: =RANDBETWEEN(1,B23-1) -> 9 | C22: - | D22: =IF(C22="+",RANDBETWEEN(1,B23-B22),RANDBETWEEN(1,B22-1)) -> 8 | E22: = | G22: 21 | H22: =RANDBETWEEN(1,H23-1) -> 7 | I22: =IF(RAND()>0.5,"+","-") -> + | J22: =IF(I22="+",RANDBETWEEN(1,H23-H22),RANDBETWEEN(1,H22-1)) -> 2 | K22: = | M22: 33 | N22: =RANDBETWEEN(1,N23-1) -> 63 | O22: =IF(RAND()>0.5,"+","-") -> - | P22: =IF(O22="+",RANDBETWEEN(1,N23-N22),RANDBETWEEN(1,N22-1)) -> 61 | Q22: = | S22: 45 | T22: =RANDBETWEEN(1,T23-1) -> 24 | U22: =IF(RAND()>0.5,"+","-") -> - | V22: =IF(U22="+",RANDBETWEEN(1,T23-T22),RANDBETWEEN(1,T22-1)) -> 11 | W22: =
B23: =RANDBETWEEN(10,99) -> 16 | D23: =B23 -> 16 | H23: =RANDBETWEEN(10,99) -> 13 | J23: =H23 -> 13 | N23: =RANDBETWEEN(10,99) -> 65 | P23: =N23 -> 65 | T23: =RANDBETWEEN(10,99) -> 77 | V23: =T23 -> 77
A24: 10 | B24: =RANDBETWEEN(1,B25-1) -> 4 | C24: - | D24: =IF(C24="+",RANDBETWEEN(1,B25-B24),RANDBETWEEN(1,B24-1)) -> 2 | E24: = | G24: 22 | H24: =RANDBETWEEN(1,H25-1) -> 66 | I24: =IF(RAND()>0.5,"+","-") -> + | J24: =IF(I24="+",RANDBETWEEN(1,H25-H24),RANDBETWEEN(1,H24-1)) -> 2 | K24: = | M24: 34 | N24: =RANDBETWEEN(1,N25-1) -> 9 | O24: =IF(RAND()>0.5,"+","-") -> + | P24: =IF(O24="+",RANDBETWEEN(1,N25-N24),RANDBETWEEN(1,N24-1)) -> 3 | Q24: = | S24: 46 | T24: =RANDBETWEEN(1,T25-1) -> 6 | U24: =IF(RAND()>0.5,"+","-") -> - | V24: =IF(U24="+",RANDBETWEEN(1,T25-T24),RANDBETWEEN(1,T24-1)) -> 4 | W24: =
B25: =RANDBETWEEN(10,99) -> 40 | D25: =B25 -> 40 | H25: =RANDBETWEEN(10,99) -> 74 | J25: =H25 -> 74 | N25: =RANDBETWEEN(10,99) -> 20 | P25: =N25 -> 20 | T25: =RANDBETWEEN(10,99) -> 21 | V25: =T25 -> 21
A26: 11 | B26: =RANDBETWEEN(1,B27-1) -> 24 | C26: - | D26: =IF(C26="+",RANDBETWEEN(1,B27-B26),RANDBETWEEN(1,B26-1)) -> 3 | E26: = | G26: 23 | H26: =RANDBETWEEN(1,H27-1) -> 21 | I26: =IF(RAND()>0.5,"+","-") -> + | J26: =IF(I26="+",RANDBETWEEN(1,H27-H26),RANDBETWEEN(1,H26-1)) -> 6 | K26: = | M26: 35 | N26: =RANDBETWEEN(1,N27-1) -> 5 | O26: =IF(RAND()>0.5,"+","-") -> + | P26: =IF(O26="+",RANDBETWEEN(1,N27-N26),RANDBETWEEN(1,N26-1)) -> 5 | Q26: = | S26: 47 | T26: =RANDBETWEEN(1,T27-1) -> 15 | U26: =IF(RAND()>0.5,"+","-") -> + | V26: =IF(U26="+",RANDBETWEEN(1,T27-T26),RANDBETWEEN(1,T26-1)) -> 4 | W26: =
B27: =RANDBETWEEN(10,99) -> 30 | D27: =B27 -> 30 | H27: =RANDBETWEEN(10,99) -> 58 | J27: =H27 -> 58 | N27: =RANDBETWEEN(10,99) -> 11 | P27: =N27 -> 11 | T27: =RANDBETWEEN(10,99) -> 20 | V27: =T27 -> 20
A28: 12 | B28: =RANDBETWEEN(1,B29-1) -> 6 | C28: - | D28: =IF(C28="+",RANDBETWEEN(1,B29-B28),RANDBETWEEN(1,B28-1)) -> 5 | E28: = | G28: 24 | H28: =RANDBETWEEN(1,H29-1) -> 12 | I28: =IF(RAND()>0.5,"+","-") -> + | J28: =IF(I28="+",RANDBETWEEN(1,H29-H28),RANDBETWEEN(1,H28-1)) -> 7 | K28: = | M28: 36 | N28: =RANDBETWEEN(1,N29-1) -> 25 | O28: =IF(RAND()>0.5,"+","-") -> + | P28: =IF(O28="+",RANDBETWEEN(1,N29-N28),RANDBETWEEN(1,N28-1)) -> 47 | Q28: = | S28: 48 | T28: =RANDBETWEEN(1,T29-1) -> 74 | U28: =IF(RAND()>0.5,"+","-") -> + | V28: =IF(U28="+",RANDBETWEEN(1,T29-T28),RANDBETWEEN(1,T28-1)) -> 4 | W28: =
B29: =RANDBETWEEN(10,99) -> 10 | D29: =B29 -> 10 | H29: =RANDBETWEEN(10,99) -> 82 | J29: =H29 -> 82 | N29: =RANDBETWEEN(10,99) -> 73 | P29: =N29 -> 73 | T29: =RANDBETWEEN(10,99) -> 88 | V29: =T29 -> 88

Sheet 分数简单计算（答案）
A1: 分数简单计算（参考答案）
A4: =分数简单计算!A3 -> 随机码:90045
A6: 题号 | B6: 答案 | C6: 题号 | D6: 答案 | E6: 题号 | F6: 答案 | G6: 题号 | H6: 答案
A7: 1 | B7: =IF(分数简单计算!C6="-",分数简单计算!B6-分数简单计算!D6,分数简单计算!B6+分数简单计算!D6) -> 47 | C7: 13 | D7: =IF(分数简单计算!I6="-",分数简单计算!H6-分数简单计算!J6,分数简单计算!H6+分数简单计算!J6) -> 21 | E7: 25 | F7: =IF(分数简单计算!O6="-",分数简单计算!N6-分数简单计算!P6,分数简单计算!N6+分数简单计算!P6) -> 21 | G7: 37 | H7: =IF(分数简单计算!U6="-",分数简单计算!T6-分数简单计算!V6,分数简单计算!T6+分数简单计算!V6) -> 14
B8: =分数简单计算!B7 -> 57 | D8: =分数简单计算!H7 -> 92 | F8: =分数简单计算!N7 -> 72 | H8: =分数简单计算!T7 -> 16
A9: 2 | B9: =IF(分数简单计算!C8="-",分数简单计算!B8-分数简单计算!D8,分数简单计算!B8+分数简单计算!D8) -> 8 | C9: 14 | D9: =IF(分数简单计算!I8="-",分数简单计算!H8-分数简单计算!J8,分数简单计算!H8+分数简单计算!J8) -> 61 | E9: 26 | F9: =IF(分数简单计算!O8="-",分数简单计算!N8-分数简单计算!P8,分数简单计算!N8+分数简单计算!P8) -> 51 | G9: 38 | H9: =IF(分数简单计算!U8="-",分数简单计算!T8-分数简单计算!V8,分数简单计算!T8+分数简单计算!V8) -> 31
B10: =分数简单计算!B9 -> 44 | D10: =分数简单计算!H9 -> 67 | F10: =分数简单计算!N9 -> 51 | H10: =分数简单计算!T9 -> 31
A11: 3 | B11: =IF(分数简单计算!C10="-",分数简单计算!B10-分数简单计算!D10,分数简单计算!B10+分数简单计算!D10) -> 5 | C11: 15 | D11: =IF(分数简单计算!I10="-",分数简单计算!H10-分数简单计算!J10,分数简单计算!H10+分数简单计算!J10) -> 1 | E11: 27 | F11: =IF(分数简单计算!O10="-",分数简单计算!N10-分数简单计算!P10,分数简单计算!N10+分数简单计算!P10) -> 10 | G11: 39 | H11: =IF(分数简单计算!U10="-",分数简单计算!T10-分数简单计算!V10,分数简单计算!T10+分数简单计算!V10) -> 51
B12: =分数简单计算!B11 -> 51 | D12: =分数简单计算!H11 -> 11 | F12: =分数简单计算!N11 -> 35 | H12: =分数简单计算!T11 -> 60
A13: 4 | B13: =IF(分数简单计算!C12="-",分数简单计算!B12-分数简单计算!D12,分数简单计算!B12+分数简单计算!D12) -> 41 | C13: 16 | D13: =IF(分数简单计算!I12="-",分数简单计算!H12-分数简单计算!J12,分数简单计算!H12+分数简单计算!J12) -> 27 | E13: 28 | F13: =IF(分数简单计算!O12="-",分数简单计算!N12-分数简单计算!P12,分数简单计算!N12+分数简单计算!P12) -> 7 | G13: 40 | H13: =IF(分数简单计算!U12="-",分数简单计算!T12-分数简单计算!V12,分数简单计算!T12+分数简单计算!V12) -> 4
B14: =分数简单计算!B13 -> 59 | D14: =分数简单计算!H13 -> 28 | F14: =分数简单计算!N13 -> 10 | H14: =分数简单计算!T13 -> 38
A15: 5 | B15: =IF(分数简单计算!C14="-",分数简单计算!B14-分数简单计算!D14,分数简单计算!B14+分数简单计算!D14) -> 26 | C15: 17 | D15: =IF(分数简单计算!I14="-",分数简单计算!H14-分数简单计算!J14,分数简单计算!H14+分数简单计算!J14) -> 11 | E15: 29 | F15: =IF(分数简单计算!O14="-",分数简单计算!N14-分数简单计算!P14,分数简单计算!N14+分数简单计算!P14) -> 2 | G15: 41 | H15: =IF(分数简单计算!U14="-",分数简单计算!T14-分数简单计算!V14,分数简单计算!T14+分数简单计算!V14) -> 10
B16: =分数简单计算!B15 -> 81 | D16: =分数简单计算!H15 -> 37 | F16: =分数简单计算!N15 -> 22 | H16: =分数简单计算!T15 -> 22
A17: 6 | B17: =IF(分数简单计算!C16="-",分数简单计算!B16-分数简单计算!D16,分数简单计算!B16+分数简单计算!D16) -> 13 | C17: 18 | D17: =IF(分数简单计算!I16="-",分数简单计算!H16-分数简单计算!J16,分数简单计算!H16+分数简单计算!J16) -> 34 | E17: 30 | F17: =IF(分数简单计算!O16="-",分数简单计算!N16-分数简单计算!P16,分数简单计算!N16+分数简单计算!P16) -> 47 | G17: 42 | H17: =IF(分数简单计算!U16="-",分数简单计算!T16-分数简单计算!V16,分数简单计算!T16+分数简单计算!V16) -> 58
B18: =分数简单计算!B17 -> 87 | D18: =分数简单计算!H17 -> 35 | F18: =分数简单计算!N17 -> 74 | H18: =分数简单计算!T17 -> 88
A19: 7 | B19: =IF(分数简单计算!C18="-",分数简单计算!B18-分数简单计算!D18,分数简单计算!B18+分数简单计算!D18) -> 6 | C19: 19 | D19: =IF(分数简单计算!I18="-",分数简单计算!H18-分数简单计算!J18,分数简单计算!H18+分数简单计算!J18) -> 25 | E19: 31 | F19: =IF(分数简单计算!O18="-",分数简单计算!N18-分数简单计算!P18,分数简单计算!N18+分数简单计算!P18) -> 5 | G19: 43 | H19: =IF(分数简单计算!U18="-",分数简单计算!T18-分数简单计算!V18,分数简单计算!T18+分数简单计算!V18) -> 11
B20: =分数简单计算!B19 -> 44 | D20: =分数简单计算!H19 -> 32 | F20: =分数简单计算!N19 -> 55 | H20: =分数简单计算!T19 -> 46
A21: 8 | B21: =IF(分数简单计算!C20="-",分数简单计算!B20-分数简单计算!D20,分数简单计算!B20+分数简单计算!D20) -> 5 | C21: 20 | D21: =IF(分数简单计算!I20="-",分数简单计算!H20-分数简单计算!J20,分数简单计算!H20+分数简单计算!J20) -> 12 | E21: 32 | F21: =IF(分数简单计算!O20="-",分数简单计算!N20-分数简单计算!P20,分数简单计算!N20+分数简单计算!P20) -> 20 | G21: 44 | H21: =IF(分数简单计算!U20="-",分数简单计算!T20-分数简单计算!V20,分数简单计算!T20+分数简单计算!V20) -> 61
B22: =分数简单计算!B21 -> 36 | D22: =分数简单计算!H21 -> 81 | F22: =分数简单计算!N21 -> 57 | H22: =分数简单计算!T21 -> 88
A23: 9 | B23: =IF(分数简单计算!C22="-",分数简单计算!B22-分数简单计算!D22,分数简单计算!B22+分数简单计算!D22) -> 1 | C23: 21 | D23: =IF(分数简单计算!I22="-",分数简单计算!H22-分数简单计算!J22,分数简单计算!H22+分数简单计算!J22) -> 9 | E23: 33 | F23: =IF(分数简单计算!O22="-",分数简单计算!N22-分数简单计算!P22,分数简单计算!N22+分数简单计算!P22) -> 2 | G23: 45 | H23: =IF(分数简单计算!U22="-",分数简单计算!T22-分数简单计算!V22,分数简单计算!T22+分数简单计算!V22) -> 13
B24: =分数简单计算!B23 -> 16 | D24: =分数简单计算!H23 -> 13 | F24: =分数简单计算!N23 -> 65 | H24: =分数简单计算!T23 -> 77
A25: 10 | B25: =IF(分数简单计算!C24="-",分数简单计算!B24-分数简单计算!D24,分数简单计算!B24+分数简单计算!D24) -> 2 | C25: 22 | D25: =IF(分数简单计算!I24="-",分数简单计算!H24-分数简单计算!J24,分数简单计算!H24+分数简单计算!J24) -> 68 | E25: 34 | F25: =IF(分数简单计算!O24="-",分数简单计算!N24-分数简单计算!P24,分数简单计算!N24+分数简单计算!P24) -> 12 | G25: 46 | H25: =IF(分数简单计算!U24="-",分数简单计算!T24-分数简单计算!V24,分数简单计算!T24+分数简单计算!V24) -> 2
B26: =分数简单计算!B25 -> 40 | D26: =分数简单计算!H25 -> 74 | F26: =分数简单计算!N25 -> 20 | H26: =分数简单计算!T25 -> 21
A27: 11 | B27: =IF(分数简单计算!C26="-",分数简单计算!B26-分数简单计算!D26,分数简单计算!B26+分数简单计算!D26) -> 21 | C27: 23 | D27: =IF(分数简单计算!I26="-",分数简单计算!H26-分数简单计算!J26,分数简单计算!H26+分数简单计算!J26) -> 27 | E27: 35 | F27: =IF(分数简单计算!O26="-",分数简单计算!N26-分数简单计算!P26,分数简单计算!N26+分数简单计算!P26) -> 10 | G27: 47 | H27: =IF(分数简单计算!U26="-",分数简单计算!T26-分数简单计算!V26,分数简单计算!T26+分数简单计算!V26) -> 19
B28: =分数简单计算!B27 -> 30 | D28: =分数简单计算!H27 -> 58 | F28: =分数简单计算!N27 -> 11 | H28: =分数简单计算!T27 -> 20
A29: 12 | B29: =IF(分数简单计算!C28="-",分数简单计算!B28-分数简单计算!D28,分数简单计算!B28+分数简单计算!D28) -> 1 | C29: 24 | D29: =IF(分数简单计算!I28="-",分数简单计算!H28-分数简单计算!J28,分数简单计算!H28+分数简单计算!J28) -> 19 | E29: 36 | F29: =IF(分数简单计算!O28="-",分数简单计算!N28-分数简单计算!P28,分数简单计算!N28+分数简单计算!P28) -> 72 | G29: 48 | H29: =IF(分数简单计算!U26="-",分数简单计算!T26-分数简单计算!V26,分数简单计算!T26+分数简单计算!V26) -> 19
B30: =分数简单计算!B29 -> 10 | D30: =分数简单计算!H29 -> 82 | F30: =分数简单计算!N29 -> 73 | H30: =分数简单计算!T29 -> 88
